BEGIN:VCALENDAR
VERSION:2.0
PRODID:-//Conseil régional Nakonha:ka - ECPv6.15.20//NONSGML v1.0//EN
CALSCALE:GREGORIAN
METHOD:PUBLISH
X-ORIGINAL-URL:https://nakonhakaucc.ca/fr
X-WR-CALDESC:Évènements pour Conseil régional Nakonha:ka
REFRESH-INTERVAL;VALUE=DURATION:PT1H
X-Robots-Tag:noindex
X-PUBLISHED-TTL:PT1H
BEGIN:VTIMEZONE
TZID:America/Toronto
BEGIN:DAYLIGHT
TZOFFSETFROM:-0500
TZOFFSETTO:-0400
TZNAME:EDT
DTSTART:20230312T070000
END:DAYLIGHT
BEGIN:STANDARD
TZOFFSETFROM:-0400
TZOFFSETTO:-0500
TZNAME:EST
DTSTART:20231105T060000
END:STANDARD
BEGIN:DAYLIGHT
TZOFFSETFROM:-0500
TZOFFSETTO:-0400
TZNAME:EDT
DTSTART:20240310T070000
END:DAYLIGHT
BEGIN:STANDARD
TZOFFSETFROM:-0400
TZOFFSETTO:-0500
TZNAME:EST
DTSTART:20241103T060000
END:STANDARD
BEGIN:DAYLIGHT
TZOFFSETFROM:-0500
TZOFFSETTO:-0400
TZNAME:EDT
DTSTART:20250309T070000
END:DAYLIGHT
BEGIN:STANDARD
TZOFFSETFROM:-0400
TZOFFSETTO:-0500
TZNAME:EST
DTSTART:20251102T060000
END:STANDARD
END:VTIMEZONE
BEGIN:VEVENT
DTSTART;TZID=America/Toronto:20240506T170000
DTEND;TZID=America/Toronto:20240506T170000
DTSTAMP:20260423T014414
CREATED:20240326T183512Z
LAST-MODIFIED:20240326T183945Z
UID:7510-1715014800-1715014800@nakonhakaucc.ca
SUMMARY:Collation des grades - Séminaire diocésain de Montréal
DESCRIPTION:Joignez-vous au Séminaire diocésain pour la collation des grades à l’église St. George (1101 av. des Canadiens-de-Montréal) le lundi 6 mai 2024 à 19h. \nVeuillez noter qu’il y aura un événement connexe comprenant une conversation avec Michael Blair (en anglais) plus tôt le même jour. Pour en savoir plus: https://nakonhakaucc.ca/event/state-of-the-church-leaning-into-gods-future-with-michael-blair/ 
URL:https://nakonhakaucc.ca/fr/evenement/collation-des-grades-seminaire-diocesain-de-montreal/
LOCATION:Église St. Georges\, 1101 av. des Canadiens-de-Montréal\, Montréal\, Québec\, Canada
CATEGORIES:collation des grades
ATTACH;FMTTYPE=image/png:https://nakonhakaucc.ca/fr/wp-content/uploads/sites/2/2024/03/convocation_banner-1200.png
END:VEVENT
END:VCALENDAR