BEGIN:VCALENDAR
VERSION:2.0
PRODID:-//Conseil régional Nakonha:ka - ECPv6.15.20//NONSGML v1.0//EN
CALSCALE:GREGORIAN
METHOD:PUBLISH
X-WR-CALNAME:Conseil régional Nakonha:ka
X-ORIGINAL-URL:https://nakonhakaucc.ca/fr
X-WR-CALDESC:Évènements pour Conseil régional Nakonha:ka
REFRESH-INTERVAL;VALUE=DURATION:PT1H
X-Robots-Tag:noindex
X-PUBLISHED-TTL:PT1H
BEGIN:VTIMEZONE
TZID:America/Toronto
BEGIN:DAYLIGHT
TZOFFSETFROM:-0500
TZOFFSETTO:-0400
TZNAME:EDT
DTSTART:20230312T070000
END:DAYLIGHT
BEGIN:STANDARD
TZOFFSETFROM:-0400
TZOFFSETTO:-0500
TZNAME:EST
DTSTART:20231105T060000
END:STANDARD
BEGIN:DAYLIGHT
TZOFFSETFROM:-0500
TZOFFSETTO:-0400
TZNAME:EDT
DTSTART:20240310T070000
END:DAYLIGHT
BEGIN:STANDARD
TZOFFSETFROM:-0400
TZOFFSETTO:-0500
TZNAME:EST
DTSTART:20241103T060000
END:STANDARD
BEGIN:DAYLIGHT
TZOFFSETFROM:-0500
TZOFFSETTO:-0400
TZNAME:EDT
DTSTART:20250309T070000
END:DAYLIGHT
BEGIN:STANDARD
TZOFFSETFROM:-0400
TZOFFSETTO:-0500
TZNAME:EST
DTSTART:20251102T060000
END:STANDARD
END:VTIMEZONE
BEGIN:VEVENT
DTSTART;TZID=America/Toronto:20240924T110000
DTEND;TZID=America/Toronto:20240924T120000
DTSTAMP:20260424T072307
CREATED:20240813T170202Z
LAST-MODIFIED:20240829T182549Z
UID:8787-1727175600-1727179200@nakonhakaucc.ca
SUMMARY:Parlons ensemble - septembre 2024
DESCRIPTION:Nouvelle horaire et lien Zoom!\n\nAttention aux candidates\, candidats et aux personnes postulantes\nJoignez-vous à Caroline Penhale\, ministre du Bureau de la vocation pour le Québec et l’Est de l’Ontario\, pour une heure de conversation et de connexion à 11h le quatrième mardi de chaque mois entre septembre et avril. Venez partager votre parcours de candidature avec d’autres personnes qui suivent un chemin similaire.\nLien Zoom : https://united-church.zoom.us/j/83131683872\n\nVeuillez noter que ce programme sera également proposé en anglais le premier mardi de chaque mois à 18 h 30. Voir la version anglaise de cet événement pour en savoir plus et pour le lien Zoom.
URL:https://nakonhakaucc.ca/fr/evenement/parlons-ensemble-septembre-2024/
LOCATION:Quebec
CATEGORIES:conversation,EN LIGNE
ATTACH;FMTTYPE=image/png:https://nakonhakaucc.ca/fr/wp-content/uploads/sites/2/2024/08/ParlonsEnsemble-NEW2025.png
ORGANIZER;CN="Caroline Penhale":MAILTO:cpenhale@united-church.ca
END:VEVENT
END:VCALENDAR