BEGIN:VCALENDAR
VERSION:2.0
PRODID:-//Conseil régional Nakonha:ka - ECPv6.15.20//NONSGML v1.0//EN
CALSCALE:GREGORIAN
METHOD:PUBLISH
X-WR-CALNAME:Conseil régional Nakonha:ka
X-ORIGINAL-URL:https://nakonhakaucc.ca/fr
X-WR-CALDESC:Évènements pour Conseil régional Nakonha:ka
REFRESH-INTERVAL;VALUE=DURATION:PT1H
X-Robots-Tag:noindex
X-PUBLISHED-TTL:PT1H
BEGIN:VTIMEZONE
TZID:America/Toronto
BEGIN:DAYLIGHT
TZOFFSETFROM:-0500
TZOFFSETTO:-0400
TZNAME:EDT
DTSTART:20230312T070000
END:DAYLIGHT
BEGIN:STANDARD
TZOFFSETFROM:-0400
TZOFFSETTO:-0500
TZNAME:EST
DTSTART:20231105T060000
END:STANDARD
BEGIN:DAYLIGHT
TZOFFSETFROM:-0500
TZOFFSETTO:-0400
TZNAME:EDT
DTSTART:20240310T070000
END:DAYLIGHT
BEGIN:STANDARD
TZOFFSETFROM:-0400
TZOFFSETTO:-0500
TZNAME:EST
DTSTART:20241103T060000
END:STANDARD
BEGIN:DAYLIGHT
TZOFFSETFROM:-0500
TZOFFSETTO:-0400
TZNAME:EDT
DTSTART:20250309T070000
END:DAYLIGHT
BEGIN:STANDARD
TZOFFSETFROM:-0400
TZOFFSETTO:-0500
TZNAME:EST
DTSTART:20251102T060000
END:STANDARD
END:VTIMEZONE
BEGIN:VEVENT
DTSTART;TZID=America/Toronto:20240908T100000
DTEND;TZID=America/Toronto:20240908T100000
DTSTAMP:20260419T120944
CREATED:20240827T212810Z
LAST-MODIFIED:20240827T212810Z
UID:8893-1725789600-1725789600@nakonhakaucc.ca
SUMMARY:Culte d'alliance entre la pasteure Rolanda Taylor et Union United Church Montréal
DESCRIPTION:Les membres du conseil régional sont invités à se joindre à la pasteure Rolanda et à Union United pour célébrer cet événement joyeux. \nSi vous n’êtes pas en mesure d’assister à la cérémonie\, mais que vous souhaitez tout de même y participer\, nous vous proposons deux solutions : \n\nVous pouvez envoyer un message par courriel\, avec ou sans votre photo\, qui sera ajouté à un livret numérique destiné à la pasteure Taylor (il sera lu pendant le service si le temps le permet).\nVous pouvez envoyer un message vidéo (qui peut être enregistré à partir de votre téléphone). Il sera ajouté au livret et quelques-uns seront diffusés pendant le service\, mais tous seront ajoutés au livret numérique de la pasteure Taylor.\n\nLes deux options doivent être envoyées à : wendy@unionunitedchurchmtl.com\navant le 31 août 2024.
URL:https://nakonhakaucc.ca/fr/evenement/culte-dalliance-entre-la-pasteure-rolanda-taylor-et-union-united-church-montreal/
LOCATION:Union United Church (Montréal)\, 3007 rue Delisle\, Montréal\, QC\, H4C 1M8\, Canada
CATEGORIES:culte
ATTACH;FMTTYPE=image/jpeg:https://nakonhakaucc.ca/fr/wp-content/uploads/sites/2/2024/08/Rev-Taylors-Covenanting-Invite.jpg
ORGANIZER;CN="Wendy":MAILTO:wendy@unionunitedchurchmtl.com
END:VEVENT
END:VCALENDAR