BEGIN:VCALENDAR
VERSION:2.0
PRODID:-//Conseil régional Nakonha:ka - ECPv6.15.20//NONSGML v1.0//EN
CALSCALE:GREGORIAN
METHOD:PUBLISH
X-ORIGINAL-URL:https://nakonhakaucc.ca/fr
X-WR-CALDESC:Évènements pour Conseil régional Nakonha:ka
REFRESH-INTERVAL;VALUE=DURATION:PT1H
X-Robots-Tag:noindex
X-PUBLISHED-TTL:PT1H
BEGIN:VTIMEZONE
TZID:America/Toronto
BEGIN:DAYLIGHT
TZOFFSETFROM:-0500
TZOFFSETTO:-0400
TZNAME:EDT
DTSTART:20230312T070000
END:DAYLIGHT
BEGIN:STANDARD
TZOFFSETFROM:-0400
TZOFFSETTO:-0500
TZNAME:EST
DTSTART:20231105T060000
END:STANDARD
BEGIN:DAYLIGHT
TZOFFSETFROM:-0500
TZOFFSETTO:-0400
TZNAME:EDT
DTSTART:20240310T070000
END:DAYLIGHT
BEGIN:STANDARD
TZOFFSETFROM:-0400
TZOFFSETTO:-0500
TZNAME:EST
DTSTART:20241103T060000
END:STANDARD
BEGIN:DAYLIGHT
TZOFFSETFROM:-0500
TZOFFSETTO:-0400
TZNAME:EDT
DTSTART:20250309T070000
END:DAYLIGHT
BEGIN:STANDARD
TZOFFSETFROM:-0400
TZOFFSETTO:-0500
TZNAME:EST
DTSTART:20251102T060000
END:STANDARD
END:VTIMEZONE
BEGIN:VEVENT
DTSTART;TZID=America/Toronto:20240121T160000
DTEND;TZID=America/Toronto:20240121T160000
DTSTAMP:20260419T194230
CREATED:20240112T172411Z
LAST-MODIFIED:20240112T172440Z
UID:6898-1705852800-1705852800@nakonhakaucc.ca
SUMMARY:Célébration œcuménique : Semaine de prières pour l'unité chrétienne (2024)
DESCRIPTION:Veuillez partager avec votre communauté de foi. \nTéléchargez les affiches : version française / version anglaise
URL:https://nakonhakaucc.ca/fr/evenement/celebration-oecumenique-semaine-de-prieres-pour-lunite-chretienne-2024/
LOCATION:L’Église St-Georges et St-Joseph\, 17400 boul. Pierrefonds\, Pierrefonds\, QC\, H9J 3E4\, Canada
CATEGORIES:culte,œcuménique
ATTACH;FMTTYPE=image/jpeg:https://nakonhakaucc.ca/fr/wp-content/uploads/sites/2/2024/01/2024-01-21-ChristianUnity-F.jpg
END:VEVENT
END:VCALENDAR