BEGIN:VCALENDAR
VERSION:2.0
PRODID:-//Conseil régional Nakonha:ka - ECPv6.15.20//NONSGML v1.0//EN
CALSCALE:GREGORIAN
METHOD:PUBLISH
X-ORIGINAL-URL:https://nakonhakaucc.ca/fr
X-WR-CALDESC:Évènements pour Conseil régional Nakonha:ka
REFRESH-INTERVAL;VALUE=DURATION:PT1H
X-Robots-Tag:noindex
X-PUBLISHED-TTL:PT1H
BEGIN:VTIMEZONE
TZID:America/Toronto
BEGIN:DAYLIGHT
TZOFFSETFROM:-0500
TZOFFSETTO:-0400
TZNAME:EDT
DTSTART:20190310T070000
END:DAYLIGHT
BEGIN:STANDARD
TZOFFSETFROM:-0400
TZOFFSETTO:-0500
TZNAME:EST
DTSTART:20191103T060000
END:STANDARD
BEGIN:DAYLIGHT
TZOFFSETFROM:-0500
TZOFFSETTO:-0400
TZNAME:EDT
DTSTART:20200308T070000
END:DAYLIGHT
BEGIN:STANDARD
TZOFFSETFROM:-0400
TZOFFSETTO:-0500
TZNAME:EST
DTSTART:20201101T060000
END:STANDARD
BEGIN:DAYLIGHT
TZOFFSETFROM:-0500
TZOFFSETTO:-0400
TZNAME:EDT
DTSTART:20210314T070000
END:DAYLIGHT
BEGIN:STANDARD
TZOFFSETFROM:-0400
TZOFFSETTO:-0500
TZNAME:EST
DTSTART:20211107T060000
END:STANDARD
END:VTIMEZONE
BEGIN:VEVENT
DTSTART;TZID=America/Toronto:20201121T083000
DTEND;TZID=America/Toronto:20201121T120000
DTSTAMP:20260424T234748
CREATED:20201014T152629Z
LAST-MODIFIED:20201124T163625Z
UID:3319-1605947400-1605960000@nakonhakaucc.ca
SUMMARY:Rassemblement d'automne 2020 du Conseil régional
DESCRIPTION:Bien que nous devions garder nos distances les uns les unes des autres\, nous demeurons toujours une communauté accompagnée par Dieu.  \n			\n				\n				\n				\n				\n				Ordre du jour\n				  \n\n\n\n8 h 30 à 9 h\nPériode de connexion\n\n\n9 h à 9 h 10\nInstructions techniques\n\n\n9 h 10 à 9 h 30\nBienvenue\, accueil sur le territoire et prière d’ouverture\n\n\n9 h 30 à 9 h 45\nOuverture de la réunion\, motions habilitantes\, introductions\, explication des grandes lignes de l’ordre du jour\n\n\n9 h 45 à 10 h 05\nGouvernance : *Budget 2021 (Équipe dirigeante en matière de biens immobiliers et de finances) (20min)\n\n\n10 h 05 à 10 h 15\nBonnes nouvelles en exil\n\n\n10 h 15 à 10 h 35\nDiscussions en petites groupes : *Bonnes nouvelles en exil\n\n\n10 h 35 à 10 h 45\nPause\n\n\n10 h 45 à 11 h 05\nGouvernance : *Financement 2021 des ministères et de la mission (Équipe dirigeante en matière de financement et de soutien) (20min)\n\n\n11 h 05 à 11 h 15\nRenvoi (10 minutes)\n\n\n11 h 15 à 11 h 20\nMise à jour du Groupe d’intervention COVID-19\n\n\n11 h 20 à 11 h 25\nGouvernance : *Équipe dirigeante en matière de nominations\n\n\n11 h 25 à 11 h 50\nAlliance avec l’équipe du personnel célébrant laïque agréé\n\n\n11 h 50 à midi\nPrière de clôtureMotions de clôture\n\n\nmidi à ???\nRepas optionnel en ligne en petits groupes\n\n\n\n			\n				\n				\n				\n				\n				Formulaire d'inscription\n				\n \n			\n				\n				\n				\n				\n				Documents à télécharger \n				Motions / décisions : 2020-04-25_General Annual Meeting_Minutes_Session 1 / 2020-05-30_General Annual Meeting_Minutes_Session 2 / 2020-11-21_Decisions and Appendices_Décisions et annexes – v2 \nBudget 2021 du Conseil régional : Région 13 – projet de 2021 Budget – préparé 2020-11-05-F \nBudget 2021 du Conseil des finances et de l’expansion (en anglais) : 2021 Budget F & E – Draft 2020-10-30 \nFinancement et soutien 2021 : budget : GrantsDisbursements-Jan01-Nov20-2020-F / présentation : GELT Nov 2020 (en anglais) \nGroupe d’intervention COVID-19 (en anglais) : NRC COVID19 Task Group Nov Update \nRenvoi : Renvoi1-Texte (pour en savoir plus : https://egliseunie.ca/modification-de-larticle-10-0-des-principes-de-lunion/) \nÉquipe dirigeante du personnel célébrant laïque agréé : LLWL-2020-2022 \nDocuments supplémentaires\nRapport de La Table des ministères en français : 2020-11-07-Rapport-LaTable \nRapport du Emmanuel College (en anglais) : Emmanuel-Report-F2020 \nRésultats préliminaires du sondage au sujet des communications : CommunicationsSurvey-Results-2020-11-08-F \nColoriages / fiches d’activités pour enfants\, jeunes et adultes : Nous ne sommes pas seuls \nMISES À JOUR \n2020-11-20Rapport de United Theological College (en anglais): UTC Report to Regional Councils Oct 2020 \n2020-11-24 : 2020-11-21_Decisions and Appendices_Décisions et annexes_FINAL \n  \nVeuillez noter que les versions anglaises des documents sont disponibles à https://nakonhakaucc.ca/event/crnrc-fall-gathering-2020/ \n			\n				\n				\n				\n				\n				BONUS – Nourriture pour l’âme\nPlusieurs d’entre nous ont indiqué que ce qui leur manque particulièrement de nos assemblées de jadis (en plus de la présence physique des gens bien sûr !) ce sont les délicieuses gâteries qui y étaient offertes avec générosité au fil des ans. Bien que ce ne soit évidemment pas comparable\, certaines de nos pâtissières émérites ont eu la délicatesse de nous partager leurs recettes afin que nous puissions avoir le plaisir de goûter à la maison ces petits délices durant le prochain rassemblement. Régalez-vous! \n  \n			\n			\n				\n				\n				\n				\n			\n				\n				\n				\n				\n				\n				\n				\n				\n				\n				\n				\n			\n				\n				\n				\n				\n				\n					\n					\n						Biscuits "Empire" (Shirley Stark)\n						ShirleyStark-EmpireBiscuits \n(en anglais) \n					\n				\n			\n			\n				\n				\n				\n				\n				\n				\n				\n				\n				\n				\n				\n			\n				\n				\n				\n				\n				\n					\n					\n						Brioches à la cannelle ("Dragon" AKA Mead Baldwin)\n						Visionnez la vidéo (recette incluse) \n(en anglais)
URL:https://nakonhakaucc.ca/fr/evenement/rassemblement-dautomne-2020-du-conseil-regional/
CATEGORIES:EN LIGNE,rassemblement régional
ATTACH;FMTTYPE=image/png:https://nakonhakaucc.ca/fr/wp-content/uploads/sites/2/2020/10/WeAreNotAlone-Fall2020-logo.png
ORGANIZER;CN="Tami Spires (pasteure)":MAILTO:spiresta@hotmail.com
END:VEVENT
END:VCALENDAR