BEGIN:VCALENDAR
VERSION:2.0
PRODID:-//Conseil régional Nakonha:ka - ECPv6.15.20//NONSGML v1.0//EN
CALSCALE:GREGORIAN
METHOD:PUBLISH
X-ORIGINAL-URL:https://nakonhakaucc.ca/fr
X-WR-CALDESC:Évènements pour Conseil régional Nakonha:ka
REFRESH-INTERVAL;VALUE=DURATION:PT1H
X-Robots-Tag:noindex
X-PUBLISHED-TTL:PT1H
BEGIN:VTIMEZONE
TZID:America/Toronto
BEGIN:DAYLIGHT
TZOFFSETFROM:-0500
TZOFFSETTO:-0400
TZNAME:EDT
DTSTART:20200308T070000
END:DAYLIGHT
BEGIN:STANDARD
TZOFFSETFROM:-0400
TZOFFSETTO:-0500
TZNAME:EST
DTSTART:20201101T060000
END:STANDARD
BEGIN:DAYLIGHT
TZOFFSETFROM:-0500
TZOFFSETTO:-0400
TZNAME:EDT
DTSTART:20210314T070000
END:DAYLIGHT
BEGIN:STANDARD
TZOFFSETFROM:-0400
TZOFFSETTO:-0500
TZNAME:EST
DTSTART:20211107T060000
END:STANDARD
BEGIN:DAYLIGHT
TZOFFSETFROM:-0500
TZOFFSETTO:-0400
TZNAME:EDT
DTSTART:20220313T070000
END:DAYLIGHT
BEGIN:STANDARD
TZOFFSETFROM:-0400
TZOFFSETTO:-0500
TZNAME:EST
DTSTART:20221106T060000
END:STANDARD
END:VTIMEZONE
BEGIN:VEVENT
DTSTART;TZID=America/Toronto:20210320T083000
DTEND;TZID=America/Toronto:20210320T120000
DTSTAMP:20260424T163939
CREATED:20210301T173138Z
LAST-MODIFIED:20210419T205631Z
UID:3611-1616229000-1616241600@nakonhakaucc.ca
SUMMARY:Rassemblement d'hiver 2021 du Conseil régional
DESCRIPTION:Roll the Stone Away / Sewanienhia’karateniat Eh’ren Sewanenhnienha;wit / À nous de rouler la pierre\nLorsque la pierre est roulée pour dégager l’ouverture du tombeau\, la lumière du soleil illumine l’intérieur; une vie nouvelle se fait jour\, une vie au-delà de la mort. En ces temps étranges de luttes et de transformations\, nous\, membres de l’Église Unie\, émergerons-nous de l’obscurité de cette période avec une compréhension renouvelée quant à notre manière de vivre et de partager cette vie nouvelle au monde entier? \n			\n				\n				\n				\n				\n				Formulaire d'inscription\n				\n \n			\n				\n				\n				\n				\n				Ordre du jour\n				\n\n\n\n8 h 30 à 9 h \n\n\nTemps de socialisation***Veuillez être en ligne à 9 h au plus tard !*** \n\n\n\n\n9 h à 9 h 15 \n\n\nInstructions techniques \n\n\n\n\n9 h 15 à 9 h 35 \n\n\nBienvenue\, accueil sur le territoire et prière d’ouverture \n\n\n\n\n9 h 35 à 9 h 50 \n\n\nOuverture de la réunion\, motions habilitantes\, introductions\, explication des grandes lignes de l’ordre du jour [Déclaration sur l’équité?]\n\n\n\n9 h 50 à 10 h 25 \n\n\nMission et développement spirituel*Maison Saint Columba (15 min)*Mission communautaire de Montréal (15 min) \n\n\n\n\n10 h 25 à 10 h 30 \n\n\nPause \n\n\n\n\n10 h 30 à 11 h 05 \n\n\nMission et développement spirituel*Aumôneries universitaires (15 min)*Séminaire Uni (15 min) \n\n\n\n\n11 h 05 à 11 h 25 \n\n\nDiscussions en petites groupes :« De quelles façons votre communauté de foi s’engage-t-elle dans la mission et le développement spirituel ? » \n\n\n\n\n11 h 25 à 11 h 30 \n\n\nMoment de prière de transition \n\n\n\n\n11 h 30 à 11 h 40 \n\n\nMise à jour du groupe d’intervention COVID \n\n\n\n\n11 h 40 à 11 h 50 \n\n\nMise à jour de l’Équipe dirigeante en matière de nominations \n\n\n\n\n11 h 50 à 12 h \n\n\nPrière de clôtureMotions de clôture \n\n\n\n\n12 h à 13 h \n\n\nDîner en ligne en petits groupes (facultatif) \n\n\n\n\n  \n			\n				\n				\n				\n				\n				Documents à télécharger \n				Ordre du jour : CrNRC Ordre du jour Hiver 2021 \n\nMotions / Décisions (bilingue) : 2021-03-20_General Annual Meeting_MOTIONS – DÉCISIONS \n\nMise à jour COVID (présentation de Peter Bisset – en anglais) : 2021-03-20-CrNRC-COVID19TaskGroupUpdate \n\nVidéos des autres présentations : \n\nIntroduction (la pasteure Linda Buchanan)\nMaison Saint Columba (Lisa Byer-de Wever)\nMission communautaire de Montréal (la pasteure Paula Kline)\nConcordia Multi-Faith Spirituality Centre (la pasteure Ellie Hummel)\nSéminaire Uni (la pasteure Maylanne Maybee)\n\n\nNotes des petites groupes de discussion (en anglais) : 2021-03-20-GroupDiscussionNotes-final \n			\n				\n				\n				\n				\n				BONUS – Fiches d’activités\nPour ceux qui aiment gribouiller pendant les réunions — ou réfléchir sur un thème de manière non verbale — veuillez télécharger ces fiches d’activités préparées par Shanna Bernier. \nChasse au trésor dans la nature (en-fr) \n 
URL:https://nakonhakaucc.ca/fr/evenement/rassemblement-dhiver-2021-du-conseil-regional/
CATEGORIES:EN LIGNE,rassemblement régional
ATTACH;FMTTYPE=image/png:https://nakonhakaucc.ca/fr/wp-content/uploads/sites/2/2021/03/RollAwayStone-logo-H-1.png
ORGANIZER;CN="Tami Spires (pasteure)":MAILTO:spiresta@hotmail.com
END:VEVENT
END:VCALENDAR