BEGIN:VCALENDAR
VERSION:2.0
PRODID:-//Conseil régional Nakonha:ka - ECPv6.15.20//NONSGML v1.0//EN
CALSCALE:GREGORIAN
METHOD:PUBLISH
X-ORIGINAL-URL:https://nakonhakaucc.ca/fr
X-WR-CALDESC:Évènements pour Conseil régional Nakonha:ka
REFRESH-INTERVAL;VALUE=DURATION:PT1H
X-Robots-Tag:noindex
X-PUBLISHED-TTL:PT1H
BEGIN:VTIMEZONE
TZID:America/Toronto
BEGIN:DAYLIGHT
TZOFFSETFROM:-0500
TZOFFSETTO:-0400
TZNAME:EDT
DTSTART:20210314T070000
END:DAYLIGHT
BEGIN:STANDARD
TZOFFSETFROM:-0400
TZOFFSETTO:-0500
TZNAME:EST
DTSTART:20211107T060000
END:STANDARD
BEGIN:DAYLIGHT
TZOFFSETFROM:-0500
TZOFFSETTO:-0400
TZNAME:EDT
DTSTART:20220313T070000
END:DAYLIGHT
BEGIN:STANDARD
TZOFFSETFROM:-0400
TZOFFSETTO:-0500
TZNAME:EST
DTSTART:20221106T060000
END:STANDARD
BEGIN:DAYLIGHT
TZOFFSETFROM:-0500
TZOFFSETTO:-0400
TZNAME:EDT
DTSTART:20230312T070000
END:DAYLIGHT
BEGIN:STANDARD
TZOFFSETFROM:-0400
TZOFFSETTO:-0500
TZNAME:EST
DTSTART:20231105T060000
END:STANDARD
END:VTIMEZONE
BEGIN:VEVENT
DTSTART;TZID=America/Toronto:20221101T133000
DTEND;TZID=America/Toronto:20221101T143000
DTSTAMP:20260422T182308
CREATED:20221005T183538Z
LAST-MODIFIED:20221006T195634Z
UID:4868-1667309400-1667313000@nakonhakaucc.ca
SUMMARY:Réunion en ligne pour le soutien du personnel ministériel - novembre 2022
DESCRIPTION:
URL:https://nakonhakaucc.ca/fr/evenement/reunion-en-ligne-pour-le-soutien-du-personnel-ministeriel-novembre-2022/
CATEGORIES:EN LIGNE,personnel ministériel
ATTACH;FMTTYPE=image/png:https://nakonhakaucc.ca/fr/wp-content/uploads/sites/2/2019/07/cropped-Nakonhaka-Logo.png
ORGANIZER;CN="Dan Hayward (pasteur)":MAILTO:dhayward@united-church.ca
END:VEVENT
BEGIN:VEVENT
DTSTART;TZID=America/Toronto:20221108T190000
DTEND;TZID=America/Toronto:20221108T203000
DTSTAMP:20260422T182308
CREATED:20221101T141739Z
LAST-MODIFIED:20221109T174937Z
UID:5005-1667934000-1667939400@nakonhakaucc.ca
SUMMARY:Conversation à propos du budget pour 2023
DESCRIPTION:C’est le budget d’une organisation qui reflète peut-être le mieux ses priorités et ses capacités. \nL’équipe dirigeante en matière de biens immobiliers et de finances partagera son projet de budget le mardi 8 novembre. Découvrez comment on crée le budget et quelles activités il soutiendra. \nCes séances d’information ne se limitent pas aux personnes déléguées votantes du conseil régional. Elles sont l’occasion d’échanger avec les présentateurs\, de se familiariser davantage avec le fonctionnement du conseil régional et peut-être plus important encore\, elles vous donneront la possibilité d’influencer le travail et l’orientation des équipes dirigeantes. \nQu’aimeriez-vous savoir sur le budget? Si vous avez déjà des questions sur des aspects particuliers du budget\, veuillez les envoyer avant le 7 novembre à Brian Ruse (bruse@united-church.ca). \nNous espérons vous compter parmi nous! \nPour demander le lien Zoom\, veuillez communiquer avec Judy: jcoffin@united-church.ca \nMISE À JOUR: Les documents et graphiques à propos du budget sont maintenant disponible à télécharger: https://nakonhakaucc.ca/fr/evenement/rassemblement-du-conseil-regional-novembre-2022-en-ligne/\n			\n				Téléchargez les documents\n			\n				Enregistrement de la conversation
URL:https://nakonhakaucc.ca/fr/evenement/conversation-a-propos-du-budget-pour-2023/
CATEGORIES:conversation,EN LIGNE,rassemblement régional
ATTACH;FMTTYPE=image/png:https://nakonhakaucc.ca/fr/wp-content/uploads/sites/2/2022/11/2022-11-08-Budget2023.png
END:VEVENT
BEGIN:VEVENT
DTSTART;TZID=America/Toronto:20221118T183000
DTEND;TZID=America/Toronto:20221119T120000
DTSTAMP:20260422T182308
CREATED:20220817T145029Z
LAST-MODIFIED:20221220T171250Z
UID:4749-1668796200-1668859200@nakonhakaucc.ca
SUMMARY:Rassemblement du conseil régional - novembre 2022 (en ligne)
DESCRIPTION:Le prochain rassemblement du conseil régional se tiendra en ligne le vendredi soir (18 nov.) et le samedi matin (19 nov.) et portera sur le thème d’une spiritualité profonde. \nSi vous avez des idées ou des ressources pour explorer le concept d’une spiritualité profonde en tant que conseil régional et si vous souhaitez participer au processus de planification\, veuillez contacter la nouvelle présidente de l’équipe de planification\, Valerie Nickson \n			\n				\n				\n				\n				\n				Inscription\n				 \n			\n				\n				\n				\n				\n				Ordre du jour provisoire\n				\n\n\nRéunion en ligne : vendredi 18 novembre (18h30 à 21h)\n\n\n18h30\nTemps de socialisation\n\n\n18h45\nLes mots avant tous les mots : accueil sur le territoire\, prière de remerciement et culte d’ouverture\n\n\n19h00\nOuverture de la réunion\, motions habilitantes\, introductions\, explication des grandes lignes de l’ordre du jour\, introduction du ministre exécutif par intérim\, pasteur Dan Hayward; Pacte comportemental (Holy Manners)\n\n\n19h20\nConseil des finances et de l’expansion / L’équipe dirigeante en matière de biens immobiliers et de finances – Budget 2023 (FE et CR)\n\n\n19h45\nDiscussion en petits groupes – Une spiritualité profonde\n\n\n20h05\nL’équipe dirigeante en matière de financement et de soutien\n\n\n20h10\nMise à jour des personnes déléguées au 44e Conseil général\n\n\n20h25\nLoi 96 – les implications légales\n\n\n20h45\nHymne / prière\n\n\n20h50\nBénédiction\n\n\n\n    \n\n\n\nRéunion en ligne : samedi 19 novembre (9h à midi)\n\n\n8h45\nTemps de socialisation\n\n\n8h50\nInstructions technologiques (Zoom\, traduction)\n\n\n8h55\nMusique\n\n\n9h00\nCulte du matin\n\n\n9h10\n\nPrésentations : Regroupements et réseau \n\nRegroupement de l’Ouest de l’Île et Riverside\nRegroupement Saint-François\nRegroupement du Rive Sud et vallées\nRegroupement Ministère régional des Laurentides\n\n\n\n\n9h35\nMinistères jeunesses : Camp Esprit Uni\, Forum Jeunesse\n\n\n9h45\nBureau de la vocation : Pasteure Caroline Penhale et Pasteure Lillian Roberts\n\n\n9h55\nPrésentation de l’Équipe dirigeante du personnel célébrant laïque agréé\n\n\n10h10\nVote – Budget 2023\n\n\n10h20\nPause\n\n\n10h30\nHymne / prière\n\n\n10h35\n\nUne spiritualité profonde – Pratiques spirituelles \n\nLabyrinthe\nTaizé\nCeltique\nBalade nature\n\n\n\n\n10h55\nDiscussion en petits groupes – Une spiritualité profonde\n\n\n11h25\nReconnaissance de la retraite de la pasteure Rosemary Lambie\n\n\n11h35\nClôture (rappels et motions habilitantes)\n\n\n11h40\n\nCulte d’alliance avec le personnel célébrant laïque agréé \nRéflexions \nMots de clôture \n\n\n\n\nTéléchargez le PDF \n			\n				\n				\n				\n				\n				Documents à télécharger\n				Procès-verbal / Décisions\n2022-06-04 Procès-verbal \n2022-11-18-19 Décisions \n\nBudget 2023\n\nTableur\nGraphiques \nTableur (FE)\nGraphiques (FE) \n\n\nPratiques spirituelles\nMéditation celtique pour l’Avènement (en anglais) \n\nMises à jour\n2022-11-17 Mise à jour de Shanna Bernier : chaque personne doit apporter une petite pierre et un morceau de chocolat à la réunion du vendredi soir ! \n			\n				\n				\n				\n				\n				Mises à jour après le rassemblement\n				Décisions\nVersion finale à venir \n\nPratiques spirituelles\nPrière corporelle (Valerie Nickson)Prier avec les sens (Shanna Bernier)Méditation chrétienne (Joel Miller)Labyrinthes (la pasteure Elisabeth Jones)Taizé (Connie Osborne et la pasteure Christine Marie Gladu) Méditation celtique pour l’Avènement (le pasteur Darryl Macdonald) – PDFÉglise de la nature (le pasteur Neil Whitehouse) \n\nRegroupements\nIntroduction (David-Roger Gagnon)Ministère régional des Laurentides – MRL (Kelley Molloy)Regroupement Saint-François (Ann Fowlis)Regroupement de l’Ouest de l’Île et Riverside (la pasteure Helen Hliaras et la pasteure Christine Marie Gladu)Regroupement du Rive Sud et vallées (la pasteure Jennifer Mountain) \n\nAutres ressources et vidéos\nBudget (Fred Braman) – à venir  [Pour en savoir plus : Budget Conversation-2022-11-08]Faits saillants du CG44 (la pasteure Cathy Hamilton)  [Pour en savoir plus : GC44Conversation-2022-10-18]Impacte de la loi 96 (Fred Braman)Équipe dirigeante en matière de financement et de soutien (la pasteure Barbara Bryce) – à venirMinistères jeunesses (Shanna Bernier)Présentation de l’équipe PCLA (Charlotte Griffith et la pasteure Lee Ann Hogle) – à venirRecommandation de l’équipe PCLA: https://bit.ly/2022-10-20-LLWLRecommendation \n 
URL:https://nakonhakaucc.ca/fr/evenement/rassemblement-du-conseil-regional-novembre-2022-en-ligne/
CATEGORIES:EN LIGNE,rassemblement régional
ATTACH;FMTTYPE=image/png:https://nakonhakaucc.ca/fr/wp-content/uploads/sites/2/2022/06/DeepSpirituality.png
ORGANIZER;CN="Valerie Nickson":MAILTO:valerieepps00@gmail.com
END:VEVENT
END:VCALENDAR