BEGIN:VCALENDAR
VERSION:2.0
PRODID:-//Conseil régional Nakonha:ka - ECPv6.15.20//NONSGML v1.0//EN
CALSCALE:GREGORIAN
METHOD:PUBLISH
X-ORIGINAL-URL:https://nakonhakaucc.ca/fr
X-WR-CALDESC:Évènements pour Conseil régional Nakonha:ka
REFRESH-INTERVAL;VALUE=DURATION:PT1H
X-Robots-Tag:noindex
X-PUBLISHED-TTL:PT1H
BEGIN:VTIMEZONE
TZID:America/Toronto
BEGIN:DAYLIGHT
TZOFFSETFROM:-0500
TZOFFSETTO:-0400
TZNAME:EDT
DTSTART:20220313T070000
END:DAYLIGHT
BEGIN:STANDARD
TZOFFSETFROM:-0400
TZOFFSETTO:-0500
TZNAME:EST
DTSTART:20221106T060000
END:STANDARD
BEGIN:DAYLIGHT
TZOFFSETFROM:-0500
TZOFFSETTO:-0400
TZNAME:EDT
DTSTART:20230312T070000
END:DAYLIGHT
BEGIN:STANDARD
TZOFFSETFROM:-0400
TZOFFSETTO:-0500
TZNAME:EST
DTSTART:20231105T060000
END:STANDARD
BEGIN:DAYLIGHT
TZOFFSETFROM:-0500
TZOFFSETTO:-0400
TZNAME:EDT
DTSTART:20240310T070000
END:DAYLIGHT
BEGIN:STANDARD
TZOFFSETFROM:-0400
TZOFFSETTO:-0500
TZNAME:EST
DTSTART:20241103T060000
END:STANDARD
END:VTIMEZONE
BEGIN:VEVENT
DTSTART;TZID=America/Toronto:20231116T090000
DTEND;TZID=America/Toronto:20231116T120000
DTSTAMP:20260422T201328
CREATED:20231019T163753Z
LAST-MODIFIED:20231019T172437Z
UID:6186-1700125200-1700136000@nakonhakaucc.ca
SUMMARY:Réunion de l'exécutif du conseil régional - novembre 2023
DESCRIPTION:
URL:https://nakonhakaucc.ca/fr/evenement/reunion-de-lexecutif-du-conseil-regional-novembre-2023/
CATEGORIES:Conseil exécutif,EN LIGNE,réunion
ATTACH;FMTTYPE=image/png:https://nakonhakaucc.ca/fr/wp-content/uploads/sites/2/2019/07/cropped-Nakonhaka-Logo.png
END:VEVENT
BEGIN:VEVENT
DTSTART;TZID=America/Toronto:20231120T190000
DTEND;TZID=America/Toronto:20231120T210000
DTSTAMP:20260422T201328
CREATED:20231106T184318Z
LAST-MODIFIED:20231124T011924Z
UID:6274-1700506800-1700514000@nakonhakaucc.ca
SUMMARY:Séance d'apprentissage en ligne: Plan stratégique 2024
DESCRIPTION:L’équipe VisionAction a travaillé d’arrache-pied pour écouter toutes les personnes qui ont participé à nos consultations et nous ont fait part de leurs commentaires par écrit. À partir des pages de commentaires\, l’équipe VisionAction élaborera un projet de rapport final qu’elle soumettra au conseil régional pour examen et vote lors de la réunion des 24 et 25 novembre. \nAfin de disposer de plus de temps pour expliquer le rapport et les résultats du processus de consultation publique\, nous organiserons une séance d’information le lundi 20 novembre à 19 h sur Zoom. \nJoignez-vous à nous pour approfondir le rapport\, et ce que vous avez dit sur les priorités de Nakonha:ka\, et pour le peaufiner avant qu’il ne soit présenté au conseil régional à la fin de la semaine. \n			\n				Téléchargez le plan stratégique 2024
URL:https://nakonhakaucc.ca/fr/evenement/seance-dapprentissage-en-ligne-plan-strategique-2024/
CATEGORIES:conversation,EN LIGNE,rassemblement régional
ATTACH;FMTTYPE=image/png:https://nakonhakaucc.ca/fr/wp-content/uploads/sites/2/2023/11/2023-11-20-StrategicPlan2024-F-1.png
ORGANIZER;CN="David-Roger Gagnon":MAILTO:drgagnon@united-church.ca
END:VEVENT
BEGIN:VEVENT
DTSTART;TZID=America/Toronto:20231122T190000
DTEND;TZID=America/Toronto:20231122T210000
DTSTAMP:20260422T201329
CREATED:20231106T192042Z
LAST-MODIFIED:20231123T022413Z
UID:6277-1700679600-1700686800@nakonhakaucc.ca
SUMMARY:Séance d'apprentissage en ligne : Budget 2024
DESCRIPTION:Liée avec notre réunion du Conseil régional de novembre\, cette séance d’apprentissage permettra aux participants d’en savoir plus sur le budget proposé pour le Conseil régional en 2024. \n			\n			\n				\n				\n				\n				\n			\n				\n				\n				\n				\n				\n				\n				\n				\n				\n				\n				Conseil régional\n			\n				Téléchargez le GRAPHIQUE\n			\n				Téléchargez le TABLEAU\n			\n			\n				\n				\n				\n				\n				\n				\n				\n				\n				\n				Conseil des finances et de l’expansion\n			\n				Téléchargez le GRAPHIQUE\n			\n				Téléchargez le TABLEAU
URL:https://nakonhakaucc.ca/fr/evenement/seance-dapprentissage-en-ligne-budget-2024/
CATEGORIES:conversation,EN LIGNE,rassemblement régional
ATTACH;FMTTYPE=image/png:https://nakonhakaucc.ca/fr/wp-content/uploads/sites/2/2023/11/2023-11-22-Budget2024-1.png
ORGANIZER;CN="Conseil r%C3%A9gional Nakonha%3Aka":MAILTO:jcoffin@united-church.ca
END:VEVENT
BEGIN:VEVENT
DTSTART;TZID=America/Toronto:20231124T183000
DTEND;TZID=America/Toronto:20231125T183000
DTSTAMP:20260422T201329
CREATED:20230627T202944Z
LAST-MODIFIED:20240110T195440Z
UID:5951-1700850600-1700937000@nakonhakaucc.ca
SUMMARY:Rassemblement du conseil régional - novembre 2023 (en ligne)
DESCRIPTION:Rejoignez-nous en ligne le 24 novembre au soir et le 25 novembre au matin pour réfléchir à ce que signifie intensifier l’invitation et adopter une approche stratégique de croissance. Deux séances d’apprentissage seront proposées avant la réunion afin d’explorer en profondeur le plan stratégique et le budget avant le vote lors de la réunion. D’autres présentations porteront sur la communication\, le Bureau de la vocation\, les nominations\, le financement et le soutien\, ainsi que sur les mises à jour du manuel de gouvernance. \nVeuillez noter que deux séances d’apprentissage (liens ci-dessous) seront proposées avant la réunion afin d’explorer en profondeur le plan stratégique et le budget avant le vote lors de la réunion. \nLe formulaire d’inscription à la réunion sera ouvert le 24 octobre 2023 et fermera à 23h30 le 23 novembre 2023. \n			\n				\n				\n				\n				\n				Formulaire d'inscription\n				 \n			\n				\n				\n				\n				\n				Documents à télécharger\n				Ordre du jour provisoire (mise à jour 2023-11-16) \nMotions (mise à jour 2023-11-24) \n\n\n\nAnnexe A\nProcès-verbal de l’Assemblée générale du 3 juin 2023 (mise à jour 2023-11-25)\n\n\nAnnexe B\nPlan stratégique 2024 du Conseil régional (mise à jour 2023-11-23)\n\n\nAnnexe C\nMandat du Fonds Rosemary Lambie pour l’apprentissage – Respecter nos voisins autochtones (mise à jour 2023-11-22)\n\n\nAnnexe D\nBudget 2024 du Conseil des finances et de l’expansion : GRAPHIQUE / TABLEAU\n\n\nAnnexe E\nBudget 2024 du Conseil régional : GRAPHIQUE / TABLEAU\n\n\nAnnexe F\nGCE 08 – pour un leadership ministériel répondant aux besoins de l’Église dans les années 2020\, partie b\, ministère pastoral laïque\n\n\nAnnexe G\nPolitique sur l’autorisation d’administrer les sacrements (mise à jour 2023-11-22)\n\n\n\n			\n				\n				\n				\n				\n				Séances d’apprentissage en ligne\n			\n			\n				\n				\n				\n				\n			\n				\n				\n				\n				\n				\n				\n				\n				\n				\n				\n				\n			\n			\n				\n				\n				\n				\n				\n				\n				\n				\n				\n				\n			\n			\n				\n				\n				\n				\n			\n				\n				\n				\n				\n				\n				\n				\n				\n				\n				\n				Ressources post-réunion\n			\n				\n				\n				\n				\n				Téléchargez les ressources post-réunion\n				\nDécisions\nMise à jour du Manuel de gouvernance\n\n			\n			\n				\n				\n				\n				\n			\n				\n				\n				\n				\n				\n				\n				\n				\n				\n				\n				Vendredi soir\n			\n				\n				\n				\n				\n				\n				\n			\n			\n				\n				\n				\n				\n				\n				\n				\n				\n				\n				Samedi matin\n			\n				\n				\n				\n				\n				\n			\n			\n				\n				\n				\n				\n			\n				\n				\n				\n				\n				\n				\n				Sondage d'évaluation
URL:https://nakonhakaucc.ca/fr/evenement/rassemblement-du-conseil-regional-novembre-2023-en-ligne/
CATEGORIES:EN LIGNE,rassemblement régional,réunion
ATTACH;FMTTYPE=image/png:https://nakonhakaucc.ca/fr/wp-content/uploads/sites/2/2023/06/2023-11-24-25-F-1.png
ORGANIZER;CN="Conseil r%C3%A9gional Nakonha%3Aka":MAILTO:jcoffin@united-church.ca
END:VEVENT
END:VCALENDAR