BEGIN:VCALENDAR
VERSION:2.0
PRODID:-//Conseil régional Nakonha:ka - ECPv6.15.20//NONSGML v1.0//EN
CALSCALE:GREGORIAN
METHOD:PUBLISH
X-ORIGINAL-URL:https://nakonhakaucc.ca/fr
X-WR-CALDESC:Évènements pour Conseil régional Nakonha:ka
REFRESH-INTERVAL;VALUE=DURATION:PT1H
X-Robots-Tag:noindex
X-PUBLISHED-TTL:PT1H
BEGIN:VTIMEZONE
TZID:America/Toronto
BEGIN:DAYLIGHT
TZOFFSETFROM:-0500
TZOFFSETTO:-0400
TZNAME:EDT
DTSTART:20230312T070000
END:DAYLIGHT
BEGIN:STANDARD
TZOFFSETFROM:-0400
TZOFFSETTO:-0500
TZNAME:EST
DTSTART:20231105T060000
END:STANDARD
BEGIN:DAYLIGHT
TZOFFSETFROM:-0500
TZOFFSETTO:-0400
TZNAME:EDT
DTSTART:20240310T070000
END:DAYLIGHT
BEGIN:STANDARD
TZOFFSETFROM:-0400
TZOFFSETTO:-0500
TZNAME:EST
DTSTART:20241103T060000
END:STANDARD
BEGIN:DAYLIGHT
TZOFFSETFROM:-0500
TZOFFSETTO:-0400
TZNAME:EDT
DTSTART:20250309T070000
END:DAYLIGHT
BEGIN:STANDARD
TZOFFSETFROM:-0400
TZOFFSETTO:-0500
TZNAME:EST
DTSTART:20251102T060000
END:STANDARD
END:VTIMEZONE
BEGIN:VEVENT
DTSTART;TZID=America/Toronto:20240205T190000
DTEND;TZID=America/Toronto:20240205T190000
DTSTAMP:20260423T044122
CREATED:20240109T210824Z
LAST-MODIFIED:20240206T181128Z
UID:6859-1707159600-1707159600@nakonhakaucc.ca
SUMMARY:Séance d'apprentissage à propos des subventions
DESCRIPTION:Veuillez nous joindre pour une séance d’information en ligne qui aura lieu lundi le 5 février à 19 h.  La séance sera animée par Brian Ruse\, le pasteur Éric Hébert-Daly\, la pasteure Barbara Bryce\, et Erik Lo Forte de la Fondation de l’Église Unie.  Nous discuterons le processus d’attribution des subventions: \n\nSubventions disponibles auprès du Bureau du Conseil Général de l’Église Unie du Canada\nSubventions disponibles auprès du Conseil régional Nakonha:ka\nSubventions de soutien à la mission\nComment demander une subvention – procedures\, délais\, etc.\nQuestions et réponses\n\n			\n				\n				\n				\n				\n				\n				\n			\n				\n				\n				\n				\n				Autres ressources\n				\nPrésentation (pasteur Éric Hébert-Daly) – PPT\nPrésentation (Erik Lo Forte) – PDF\n\nLiens (à partir du chat Zoom) : \n\neloforte@united-church.ca\ngrants@united-church.ca\nhttps://www.unitedchurchfoundation.ca/\nhttps://www.faithfulfootprints.org/\nhttps://united-church.ca/leadership/church-administration/compensation-and-benefits/financial-assistance\n2023-12-14-Fall-Granting-Summary-Website.pdf\nhttps://fondationegliseunie.ca/\nhttps://nakonhakaucc.ca/resources/granting-and-enabling/\nhttps://nakonhakaucc.ca/fr/ressources/financement-et-soutien/\n\n			\n				Sondage d'évaluation
URL:https://nakonhakaucc.ca/fr/evenement/seance-dapprentissage-a-propos-des-subventions/
CATEGORIES:EN LIGNE,séance d'apprentissage,Subventions
ATTACH;FMTTYPE=image/png:https://nakonhakaucc.ca/fr/wp-content/uploads/sites/2/2024/01/Grants-2024-1.png
ORGANIZER;CN="Brian Ruse":MAILTO:bruse@united-church.ca
END:VEVENT
BEGIN:VEVENT
DTSTART;TZID=America/Toronto:20240213T120000
DTEND;TZID=America/Toronto:20240213T120000
DTSTAMP:20260423T044122
CREATED:20240201T214507Z
LAST-MODIFIED:20240201T214507Z
UID:7109-1707825600-1707825600@nakonhakaucc.ca
SUMMARY:Parlons ensemble - février 2024
DESCRIPTION:NOUVEAU\nAttention aux candidates\, candidats et aux personnes postulantes\nJoignez-vous à Caroline Penhale\, ministre du Bureau de la vocation pour le Québec et l’Est de l’Ontario\, pour une heure de conversation et de connexion le deuxième mardi de chaque mois. Venez partager votre parcours de candidature avec d’autres personnes qui suivent un chemin similaire.\nDébut le mardi 13 février à midi\nLien Zoom : https://united-church.zoom.us/j/84113795598\n\nVeuillez noter que ce programme sera également proposé en anglais le deuxième mardi de chaque mois à 19 h. Voir la version anglaise de cet événement pour en savoir plus et pour le lien Zoom.
URL:https://nakonhakaucc.ca/fr/evenement/parlons-ensemble-fevrier-2024/
CATEGORIES:conversation,EN LIGNE
ATTACH;FMTTYPE=image/png:https://nakonhakaucc.ca/fr/wp-content/uploads/sites/2/2024/02/Parlons-ensemble.png
ORGANIZER;CN="Caroline Penhale":MAILTO:cpenhale@united-church.ca
END:VEVENT
BEGIN:VEVENT
DTSTART;TZID=America/Toronto:20240215T090000
DTEND;TZID=America/Toronto:20240215T120000
DTSTAMP:20260423T044122
CREATED:20231019T172528Z
LAST-MODIFIED:20231019T172528Z
UID:6195-1707987600-1707998400@nakonhakaucc.ca
SUMMARY:Réunion de l'exécutif du conseil régional - février 2024
DESCRIPTION:
URL:https://nakonhakaucc.ca/fr/evenement/reunion-de-lexecutif-du-conseil-regional-fevrier-2024/
CATEGORIES:Conseil exécutif,EN LIGNE,réunion
ATTACH;FMTTYPE=image/png:https://nakonhakaucc.ca/fr/wp-content/uploads/sites/2/2019/07/cropped-Nakonhaka-Logo.png
END:VEVENT
END:VCALENDAR