BEGIN:VCALENDAR
VERSION:2.0
PRODID:-//Conseil régional Nakonha:ka - ECPv6.15.20//NONSGML v1.0//EN
CALSCALE:GREGORIAN
METHOD:PUBLISH
X-ORIGINAL-URL:https://nakonhakaucc.ca/fr
X-WR-CALDESC:Évènements pour Conseil régional Nakonha:ka
REFRESH-INTERVAL;VALUE=DURATION:PT1H
X-Robots-Tag:noindex
X-PUBLISHED-TTL:PT1H
BEGIN:VTIMEZONE
TZID:UTC
BEGIN:STANDARD
TZOFFSETFROM:+0000
TZOFFSETTO:+0000
TZNAME:UTC
DTSTART:20190101T000000
END:STANDARD
END:VTIMEZONE
BEGIN:VEVENT
DTSTART;TZID=UTC:20200530T090000
DTEND;TZID=UTC:20200530T120000
DTSTAMP:20260425T194431
CREATED:20200310T203555Z
LAST-MODIFIED:20200615T161150Z
UID:2611-1590829200-1590840000@nakonhakaucc.ca
SUMMARY:Rassemblement du Conseil régional Nakonha:ka EN LIGNE (printemps 2020)
DESCRIPTION:Appelé(e)s à être l’ÉgliseShonkwahonkarawis N’atsitewahteriwanhót’thase Called to be the Church\nEn ce temps\, plus que jamais\, nous sommes appelé(e)s à être l’Église. Les représentant(e)s laïques et le personnel ministériel du Conseil régional Nakonha:ka sont appelé(e)s à participer au rassemblement du printemps du Conseil régional\, qui se tiendra en ligne cette année\, lors de deux rencontres d’une demi-journée chacune : \n\n1ère partie – le 25 avril 2020 de 9 h à midi\n2e partie –  le 30 mai 2020 de 9 h à midi\n\nLes deux rencontres porteront principalement sur les réseaux\, déjà en existence ou en développement\, de même que sur la façon dont les communautés de foi font face à la pandémie. Voici des liens pour les documents préparatoires et les ressources en vue de cette réunion : \n*Veuillez noter que les traductions manquantes en français seront disponibles sur le site à compter du jeudi soir. \n\nMerci à Martha Randy pour la belle photo qui illustre si bien notre thème Être appelé(e) \n			\n				\n				\n				\n				\n				Inscription\n				\n \n			\n				\n				\n				\n				\n				Documents pour le rassemblement du 25 avril 2020\n				le 25 avril 2020\n\nOrdre du jour (version préliminaire – EN ANGLAIS*) –http://nakonhakaucc.ca/fr/wp-content/uploads/sites/2/2020/03/CrNRC-Spring-2020-schedule-Draft.docx \nDécisions prises au rassemblement de novembre 2019 – https://nakonhakaucc.ca/fr/ressources/proces-verbaux-et-rapports/ \nMise à jour du Manuel de gouvernance –https://nakonhakaucc.ca/fr/ressources/politiques/ \nDécisions et documents de référence pour la partie affaires de la réunion –2020-04-25_General Annual Meeting_Minutes_Session 1_Decisions_V2 (mise à jour le 24 avril 2020)\n\nAssurez-vous également de télécharger et de remplir les formulaires de manifestation d’intérêt ou de mise en candidature pour les postes à l’exécutif du Conseil régional (ou en tant que personne déléguée au 44e Conseil général). La date limite de candidature à l’exécutif est le 20 mai :https://nakonhakaucc.ca/fr/ressources/nominations/ \n			\n				\n				\n				\n				\n				Documents pour le rassemblement du 30 mai 2020\n				le 30 mai 2020\n\nOrdre du  jour – Agenda-2020-final\nBiographies des personnes candidates déléguées au 44e Conseil général – Nominees-GC44-F-2020-05-29 (mise à jour le 29 mai 2020)\nRapport du Conseil régional – 2020_RC 13 AGM_Cahiers des rapports (mise à jour le 28 mai 2020)\nDécisions et documents de référence pour la partie affaires de la réunion – 2020-05-30_General Annual Meeting_Session 2_Decisions_V3 (mise à jour le 28 mai 2020)\nAutres documents :\n\nNécrologie du pasteur Leicester Bigby – Memorial – Rev.Dr. E. Leicester Bigby_FR (ajouté le 28 mai 2020)\nÉquipe dirigeante en matière de justice et d’implication communautaire – Community and Justice Leadership Team_FR_final version2 (ajouté le 28 mai 2020)\n\n\n\n			\n				\n				\n				\n				\n				Annonces\n				Annonces\nRassemblements de soutien en ligne aux pasteures et pasteurs\nLe premier MARDI du mois sur Zoom \nUn temps de prière et de réflexion\, de partage d’idées et ressources\, et de partage personnel en petit groupe. \nProchaine rencontre : le mardi 2 juin à 13h30 \nPour de plus amples renseignements\, veuillez contacter : David-Roger Gagnon   DRGagnon@united-church.ca  \nRéunion en ligne pour explorer de possibles initiatives et partenariats autour d’enjeux environnementaux\nLundi 15 juin à 13 h \nPour en savoir plus : jcoffin@united-church.ca \n			\n				\n				\n				\n				\n				Présentations et notes des groupes de discussion\n				PRÉSENTATIONS\n\nProtocoles pour la réouverture progressive des bâtiments\nprésentation par Peter Bisset \n\nNOTES DES GROUPES DE DISCUSSION\n\n\nRéponses des communautés de foi à l’épidémie COVID-19 \n\n\nPréoccupations et suggestions au sujet de la réouverture des bâtiments d’église (par catégories) – mise à jour le 15 juin 2020 \n\n\nVeuillez noter que les autres présentations seront disponibles ici vers la mi-juin.
URL:https://nakonhakaucc.ca/fr/evenement/rassemblement-du-conseil-regional-nakonhaka-printemps2020/
CATEGORIES:EN LIGNE,rassemblement régional
ATTACH;FMTTYPE=image/jpeg:https://nakonhakaucc.ca/fr/wp-content/uploads/sites/2/2020/03/Spring2020-MRandy.jpg
ORGANIZER;CN="Tami Spires (pasteure)":MAILTO:spiresta@hotmail.com
END:VEVENT
END:VCALENDAR