BEGIN:VCALENDAR
VERSION:2.0
PRODID:-//Conseil régional Nakonha:ka - ECPv6.15.20//NONSGML v1.0//EN
CALSCALE:GREGORIAN
METHOD:PUBLISH
X-ORIGINAL-URL:https://nakonhakaucc.ca/fr
X-WR-CALDESC:Évènements pour Conseil régional Nakonha:ka
REFRESH-INTERVAL;VALUE=DURATION:PT1H
X-Robots-Tag:noindex
X-PUBLISHED-TTL:PT1H
BEGIN:VTIMEZONE
TZID:America/Toronto
BEGIN:DAYLIGHT
TZOFFSETFROM:-0500
TZOFFSETTO:-0400
TZNAME:EDT
DTSTART:20210314T070000
END:DAYLIGHT
BEGIN:STANDARD
TZOFFSETFROM:-0400
TZOFFSETTO:-0500
TZNAME:EST
DTSTART:20211107T060000
END:STANDARD
BEGIN:DAYLIGHT
TZOFFSETFROM:-0500
TZOFFSETTO:-0400
TZNAME:EDT
DTSTART:20220313T070000
END:DAYLIGHT
BEGIN:STANDARD
TZOFFSETFROM:-0400
TZOFFSETTO:-0500
TZNAME:EST
DTSTART:20221106T060000
END:STANDARD
BEGIN:DAYLIGHT
TZOFFSETFROM:-0500
TZOFFSETTO:-0400
TZNAME:EDT
DTSTART:20230312T070000
END:DAYLIGHT
BEGIN:STANDARD
TZOFFSETFROM:-0400
TZOFFSETTO:-0500
TZNAME:EST
DTSTART:20231105T060000
END:STANDARD
END:VTIMEZONE
BEGIN:VEVENT
DTSTART;TZID=America/Toronto:20221108T190000
DTEND;TZID=America/Toronto:20221108T203000
DTSTAMP:20260422T202426
CREATED:20221101T141739Z
LAST-MODIFIED:20221109T174937Z
UID:5005-1667934000-1667939400@nakonhakaucc.ca
SUMMARY:Conversation à propos du budget pour 2023
DESCRIPTION:C’est le budget d’une organisation qui reflète peut-être le mieux ses priorités et ses capacités. \nL’équipe dirigeante en matière de biens immobiliers et de finances partagera son projet de budget le mardi 8 novembre. Découvrez comment on crée le budget et quelles activités il soutiendra. \nCes séances d’information ne se limitent pas aux personnes déléguées votantes du conseil régional. Elles sont l’occasion d’échanger avec les présentateurs\, de se familiariser davantage avec le fonctionnement du conseil régional et peut-être plus important encore\, elles vous donneront la possibilité d’influencer le travail et l’orientation des équipes dirigeantes. \nQu’aimeriez-vous savoir sur le budget? Si vous avez déjà des questions sur des aspects particuliers du budget\, veuillez les envoyer avant le 7 novembre à Brian Ruse (bruse@united-church.ca). \nNous espérons vous compter parmi nous! \nPour demander le lien Zoom\, veuillez communiquer avec Judy: jcoffin@united-church.ca \nMISE À JOUR: Les documents et graphiques à propos du budget sont maintenant disponible à télécharger: https://nakonhakaucc.ca/fr/evenement/rassemblement-du-conseil-regional-novembre-2022-en-ligne/\n			\n				Téléchargez les documents\n			\n				Enregistrement de la conversation
URL:https://nakonhakaucc.ca/fr/evenement/conversation-a-propos-du-budget-pour-2023/
CATEGORIES:conversation,EN LIGNE,rassemblement régional
ATTACH;FMTTYPE=image/png:https://nakonhakaucc.ca/fr/wp-content/uploads/sites/2/2022/11/2022-11-08-Budget2023.png
END:VEVENT
END:VCALENDAR