BEGIN:VCALENDAR
VERSION:2.0
PRODID:-//Conseil régional Nakonha:ka - ECPv6.15.20//NONSGML v1.0//EN
CALSCALE:GREGORIAN
METHOD:PUBLISH
X-WR-CALNAME:Conseil régional Nakonha:ka
X-ORIGINAL-URL:https://nakonhakaucc.ca/fr
X-WR-CALDESC:Évènements pour Conseil régional Nakonha:ka
REFRESH-INTERVAL;VALUE=DURATION:PT1H
X-Robots-Tag:noindex
X-PUBLISHED-TTL:PT1H
BEGIN:VTIMEZONE
TZID:America/Toronto
BEGIN:DAYLIGHT
TZOFFSETFROM:-0500
TZOFFSETTO:-0400
TZNAME:EDT
DTSTART:20220313T070000
END:DAYLIGHT
BEGIN:STANDARD
TZOFFSETFROM:-0400
TZOFFSETTO:-0500
TZNAME:EST
DTSTART:20221106T060000
END:STANDARD
BEGIN:DAYLIGHT
TZOFFSETFROM:-0500
TZOFFSETTO:-0400
TZNAME:EDT
DTSTART:20230312T070000
END:DAYLIGHT
BEGIN:STANDARD
TZOFFSETFROM:-0400
TZOFFSETTO:-0500
TZNAME:EST
DTSTART:20231105T060000
END:STANDARD
BEGIN:DAYLIGHT
TZOFFSETFROM:-0500
TZOFFSETTO:-0400
TZNAME:EDT
DTSTART:20240310T070000
END:DAYLIGHT
BEGIN:STANDARD
TZOFFSETFROM:-0400
TZOFFSETTO:-0500
TZNAME:EST
DTSTART:20241103T060000
END:STANDARD
END:VTIMEZONE
BEGIN:VEVENT
DTSTART;TZID=America/Toronto:20231122T190000
DTEND;TZID=America/Toronto:20231122T210000
DTSTAMP:20260422T222909
CREATED:20231106T192042Z
LAST-MODIFIED:20231123T022413Z
UID:6277-1700679600-1700686800@nakonhakaucc.ca
SUMMARY:Séance d'apprentissage en ligne : Budget 2024
DESCRIPTION:Liée avec notre réunion du Conseil régional de novembre\, cette séance d’apprentissage permettra aux participants d’en savoir plus sur le budget proposé pour le Conseil régional en 2024. \n			\n			\n				\n				\n				\n				\n			\n				\n				\n				\n				\n				\n				\n				\n				\n				\n				\n				Conseil régional\n			\n				Téléchargez le GRAPHIQUE\n			\n				Téléchargez le TABLEAU\n			\n			\n				\n				\n				\n				\n				\n				\n				\n				\n				\n				Conseil des finances et de l’expansion\n			\n				Téléchargez le GRAPHIQUE\n			\n				Téléchargez le TABLEAU
URL:https://nakonhakaucc.ca/fr/evenement/seance-dapprentissage-en-ligne-budget-2024/
CATEGORIES:conversation,EN LIGNE,rassemblement régional
ATTACH;FMTTYPE=image/png:https://nakonhakaucc.ca/fr/wp-content/uploads/sites/2/2023/11/2023-11-22-Budget2024-1.png
ORGANIZER;CN="Conseil r%C3%A9gional Nakonha%3Aka":MAILTO:jcoffin@united-church.ca
END:VEVENT
END:VCALENDAR