BEGIN:VCALENDAR
VERSION:2.0
PRODID:-//Conseil régional Nakonha:ka - ECPv6.15.20//NONSGML v1.0//EN
CALSCALE:GREGORIAN
METHOD:PUBLISH
X-ORIGINAL-URL:https://nakonhakaucc.ca/fr
X-WR-CALDESC:Évènements pour Conseil régional Nakonha:ka
REFRESH-INTERVAL;VALUE=DURATION:PT1H
X-Robots-Tag:noindex
X-PUBLISHED-TTL:PT1H
BEGIN:VTIMEZONE
TZID:America/Toronto
BEGIN:DAYLIGHT
TZOFFSETFROM:-0500
TZOFFSETTO:-0400
TZNAME:EDT
DTSTART:20230312T070000
END:DAYLIGHT
BEGIN:STANDARD
TZOFFSETFROM:-0400
TZOFFSETTO:-0500
TZNAME:EST
DTSTART:20231105T060000
END:STANDARD
BEGIN:DAYLIGHT
TZOFFSETFROM:-0500
TZOFFSETTO:-0400
TZNAME:EDT
DTSTART:20240310T070000
END:DAYLIGHT
BEGIN:STANDARD
TZOFFSETFROM:-0400
TZOFFSETTO:-0500
TZNAME:EST
DTSTART:20241103T060000
END:STANDARD
BEGIN:DAYLIGHT
TZOFFSETFROM:-0500
TZOFFSETTO:-0400
TZNAME:EDT
DTSTART:20250309T070000
END:DAYLIGHT
BEGIN:STANDARD
TZOFFSETFROM:-0400
TZOFFSETTO:-0500
TZNAME:EST
DTSTART:20251102T060000
END:STANDARD
END:VTIMEZONE
BEGIN:VEVENT
DTSTART;VALUE=DATE:20240927
DTEND;VALUE=DATE:20240930
DTSTAMP:20260424T234708
CREATED:20240830T154851Z
LAST-MODIFIED:20240830T155035Z
UID:8944-1727395200-1727654399@nakonhakaucc.ca
SUMMARY:Journées de la culture
DESCRIPTION:St James participe pour la première fois dans la programmation officielle des Journées de la culture de Montréal. Nous vous invitons cordialement à venir vivre les trois journées avec nous au 463\, rue Sainte-Catherine Ouest\, Montréal\, et de visiter notre église. Les ensembles et la musique sont très variés et nous pouvons écouter des musicien.ne.s établi.e.s ainsi que des jeunes de la relève!
URL:https://nakonhakaucc.ca/fr/evenement/journees-de-la-culture/
LOCATION:St. James United Church\, 1435 City Councillors\, Montréal\, QC\, H3A 2E4\, Canada
CATEGORIES:événement communautaire,musique
ATTACH;FMTTYPE=image/jpeg:https://nakonhakaucc.ca/fr/wp-content/uploads/sites/2/2024/08/2024_JdlC-Poster-1.jpg
ORGANIZER;CN="Alexandra Fol":MAILTO:music@stjamesmontreal.ca
END:VEVENT
END:VCALENDAR