BEGIN:VCALENDAR
VERSION:2.0
PRODID:-//Conseil régional Nakonha:ka - ECPv6.15.20//NONSGML v1.0//EN
CALSCALE:GREGORIAN
METHOD:PUBLISH
X-ORIGINAL-URL:https://nakonhakaucc.ca/fr
X-WR-CALDESC:Évènements pour Conseil régional Nakonha:ka
REFRESH-INTERVAL;VALUE=DURATION:PT1H
X-Robots-Tag:noindex
X-PUBLISHED-TTL:PT1H
BEGIN:VTIMEZONE
TZID:America/Toronto
BEGIN:DAYLIGHT
TZOFFSETFROM:-0500
TZOFFSETTO:-0400
TZNAME:EDT
DTSTART:20230312T070000
END:DAYLIGHT
BEGIN:STANDARD
TZOFFSETFROM:-0400
TZOFFSETTO:-0500
TZNAME:EST
DTSTART:20231105T060000
END:STANDARD
BEGIN:DAYLIGHT
TZOFFSETFROM:-0500
TZOFFSETTO:-0400
TZNAME:EDT
DTSTART:20240310T070000
END:DAYLIGHT
BEGIN:STANDARD
TZOFFSETFROM:-0400
TZOFFSETTO:-0500
TZNAME:EST
DTSTART:20241103T060000
END:STANDARD
BEGIN:DAYLIGHT
TZOFFSETFROM:-0500
TZOFFSETTO:-0400
TZNAME:EDT
DTSTART:20250309T070000
END:DAYLIGHT
BEGIN:STANDARD
TZOFFSETFROM:-0400
TZOFFSETTO:-0500
TZNAME:EST
DTSTART:20251102T060000
END:STANDARD
END:VTIMEZONE
BEGIN:VEVENT
DTSTART;TZID=America/Toronto:20241109T100000
DTEND;TZID=America/Toronto:20241109T143000
DTSTAMP:20260424T195218
CREATED:20241030T135113Z
LAST-MODIFIED:20241030T135113Z
UID:9476-1731146400-1731162600@nakonhakaucc.ca
SUMMARY:Bazar de Noël
DESCRIPTION:L’Eglise Unie de Montréal Ouest (MWUC) a le plaisir de tenir son Bazar de Noël annuel le samedi 9 novembre de 10h00 à 14h30. Venez au 88 avenue Ballantyne nord pour vivre une ambiance de Noël riche en trésors variés : tricots\, friandises maison\, décorations de Noël faites d’une main artisanale et plus encore\, y compris un encan silencieux présentant une grande gamme d’objets et d’expériences. Que ce soit un cadeau original ou une gâterie pour vous régaler vous-même\, vous avez d’excellentes chances de trouver exactement ce qu’il vous faut.
URL:https://nakonhakaucc.ca/fr/evenement/bazar-de-noel/
LOCATION:Montreal West United Church\, 88 Av. Ballantyne N\, Montréal-Ouest\, QC\, H4X 2B8\, Canada
CATEGORIES:événement communautaire
END:VEVENT
END:VCALENDAR