BEGIN:VCALENDAR
VERSION:2.0
PRODID:-//Conseil régional Nakonha:ka - ECPv6.15.20//NONSGML v1.0//EN
CALSCALE:GREGORIAN
METHOD:PUBLISH
X-ORIGINAL-URL:https://nakonhakaucc.ca/fr
X-WR-CALDESC:Évènements pour Conseil régional Nakonha:ka
REFRESH-INTERVAL;VALUE=DURATION:PT1H
X-Robots-Tag:noindex
X-PUBLISHED-TTL:PT1H
BEGIN:VTIMEZONE
TZID:America/Toronto
BEGIN:DAYLIGHT
TZOFFSETFROM:-0500
TZOFFSETTO:-0400
TZNAME:EDT
DTSTART:20230312T070000
END:DAYLIGHT
BEGIN:STANDARD
TZOFFSETFROM:-0400
TZOFFSETTO:-0500
TZNAME:EST
DTSTART:20231105T060000
END:STANDARD
BEGIN:DAYLIGHT
TZOFFSETFROM:-0500
TZOFFSETTO:-0400
TZNAME:EDT
DTSTART:20240310T070000
END:DAYLIGHT
BEGIN:STANDARD
TZOFFSETFROM:-0400
TZOFFSETTO:-0500
TZNAME:EST
DTSTART:20241103T060000
END:STANDARD
BEGIN:DAYLIGHT
TZOFFSETFROM:-0500
TZOFFSETTO:-0400
TZNAME:EDT
DTSTART:20250309T070000
END:DAYLIGHT
BEGIN:STANDARD
TZOFFSETFROM:-0400
TZOFFSETTO:-0500
TZNAME:EST
DTSTART:20251102T060000
END:STANDARD
END:VTIMEZONE
BEGIN:VEVENT
DTSTART;TZID=America/Toronto:20241009T130000
DTEND;TZID=America/Toronto:20241009T143000
DTSTAMP:20260422T201507
CREATED:20240924T150644Z
LAST-MODIFIED:20240924T150644Z
UID:9125-1728478800-1728484200@nakonhakaucc.ca
SUMMARY:Webinaire de l’Institut Tamarack: L’engagement communautaire dans les milieux bilingues
DESCRIPTION:Le présent webinaire a pour objectif d’inviter des personnes qui gère des OBNL ou qui mène des luttes pour la justice dans les communautés bilingues qui ont besoin de naviguer deux communautés sociolinguistiques ainsi que leurs besoins au même temps pour que tout le monde s’avance ensemble. Quels sont les défis qu’elles sont rencontrés ? Quelles sont les forces d’agir dans une communauté bilingue ? Par quelle façon a-t-elle engagé les deux communautés à leurs lignes distinctes de départ ? Un engagement communautaire multilingue exige beaucoup plus que la traduction et l’interprétation. Cet événement se déroule en français avec interprétation simultanée en anglais. \nPour en savoir plus et s’inscrire !
URL:https://nakonhakaucc.ca/fr/evenement/webinaire-de-linstitut-tamarack-lengagement-communautaire-dans-les-milieux-bilingues/
CATEGORIES:EN LIGNE,événement communautaire,événement de partenaire
END:VEVENT
END:VCALENDAR