BEGIN:VCALENDAR
VERSION:2.0
PRODID:-//Conseil régional Nakonha:ka - ECPv6.15.20//NONSGML v1.0//EN
CALSCALE:GREGORIAN
METHOD:PUBLISH
X-WR-CALNAME:Conseil régional Nakonha:ka
X-ORIGINAL-URL:https://nakonhakaucc.ca/fr
X-WR-CALDESC:Évènements pour Conseil régional Nakonha:ka
REFRESH-INTERVAL;VALUE=DURATION:PT1H
X-Robots-Tag:noindex
X-PUBLISHED-TTL:PT1H
BEGIN:VTIMEZONE
TZID:America/Toronto
BEGIN:DAYLIGHT
TZOFFSETFROM:-0500
TZOFFSETTO:-0400
TZNAME:EDT
DTSTART:20220313T070000
END:DAYLIGHT
BEGIN:STANDARD
TZOFFSETFROM:-0400
TZOFFSETTO:-0500
TZNAME:EST
DTSTART:20221106T060000
END:STANDARD
BEGIN:DAYLIGHT
TZOFFSETFROM:-0500
TZOFFSETTO:-0400
TZNAME:EDT
DTSTART:20230312T070000
END:DAYLIGHT
BEGIN:STANDARD
TZOFFSETFROM:-0400
TZOFFSETTO:-0500
TZNAME:EST
DTSTART:20231105T060000
END:STANDARD
BEGIN:DAYLIGHT
TZOFFSETFROM:-0500
TZOFFSETTO:-0400
TZNAME:EDT
DTSTART:20240310T070000
END:DAYLIGHT
BEGIN:STANDARD
TZOFFSETFROM:-0400
TZOFFSETTO:-0500
TZNAME:EST
DTSTART:20241103T060000
END:STANDARD
END:VTIMEZONE
BEGIN:VEVENT
DTSTART;TZID=America/Toronto:20230523T100000
DTEND;TZID=America/Toronto:20230523T130000
DTSTAMP:20260425T224442
CREATED:20230516T165230Z
LAST-MODIFIED:20230516T165230Z
UID:5761-1684836000-1684846800@nakonhakaucc.ca
SUMMARY:11e journée annuelle interconfessionelle éco-action
DESCRIPTION:Nettoyage du parc\, plaisir et prix pour tous âges
URL:https://nakonhakaucc.ca/fr/evenement/11e-journee-annuelle-interconfessionelle-eco-action/
LOCATION:Parc Monseigneur J.-A. Richard\, 5150 Bd LaSalle\, Verdun\, H4G 3G2
CATEGORIES:événement communautaire,interreligieux,justice climatique
ATTACH;FMTTYPE=image/jpeg:https://nakonhakaucc.ca/fr/wp-content/uploads/sites/2/2023/05/2023-05-23-EcoActionDay-F.jpg
ORGANIZER;CN="GreenFaith Montr%C3%A9al":MAILTO:greenfaithmontreal@gmail.com
END:VEVENT
END:VCALENDAR