BEGIN:VCALENDAR
VERSION:2.0
PRODID:-//Conseil régional Nakonha:ka - ECPv6.15.20//NONSGML v1.0//EN
CALSCALE:GREGORIAN
METHOD:PUBLISH
X-WR-CALNAME:Conseil régional Nakonha:ka
X-ORIGINAL-URL:https://nakonhakaucc.ca/fr
X-WR-CALDESC:Évènements pour Conseil régional Nakonha:ka
REFRESH-INTERVAL;VALUE=DURATION:PT1H
X-Robots-Tag:noindex
X-PUBLISHED-TTL:PT1H
BEGIN:VTIMEZONE
TZID:America/Toronto
BEGIN:DAYLIGHT
TZOFFSETFROM:-0500
TZOFFSETTO:-0400
TZNAME:EDT
DTSTART:20230312T070000
END:DAYLIGHT
BEGIN:STANDARD
TZOFFSETFROM:-0400
TZOFFSETTO:-0500
TZNAME:EST
DTSTART:20231105T060000
END:STANDARD
BEGIN:DAYLIGHT
TZOFFSETFROM:-0500
TZOFFSETTO:-0400
TZNAME:EDT
DTSTART:20240310T070000
END:DAYLIGHT
BEGIN:STANDARD
TZOFFSETFROM:-0400
TZOFFSETTO:-0500
TZNAME:EST
DTSTART:20241103T060000
END:STANDARD
BEGIN:DAYLIGHT
TZOFFSETFROM:-0500
TZOFFSETTO:-0400
TZNAME:EDT
DTSTART:20250309T070000
END:DAYLIGHT
BEGIN:STANDARD
TZOFFSETFROM:-0400
TZOFFSETTO:-0500
TZNAME:EST
DTSTART:20251102T060000
END:STANDARD
END:VTIMEZONE
BEGIN:VEVENT
DTSTART;TZID=America/Toronto:20241101T183000
DTEND;TZID=America/Toronto:20241102T123000
DTSTAMP:20260422T202009
CREATED:20240109T163244Z
LAST-MODIFIED:20241209T154414Z
UID:6851-1730485800-1730550600@nakonhakaucc.ca
SUMMARY:Rassemblement du conseil régional - novembre 2024 (en ligne)
DESCRIPTION:La prochaine réunion du conseil régional se tiendra les 1er et 2 novembre (sur Zoom) \nL’ordre du jour comprendra : \n\nPrésentation des résultats des récents groupes de discussion\nRessource : profils des quartiers\nVote sur le budget 2025 \nVote sur les personnes déléguées et discussion sur les propositions pour le CG45\nReconnaissance du personnel célébrant laïque agréé (PCLA)\n\n			\n				\n				\n				\n				\n				Inscription\n				 \n			\n				\n				\n				\n				\n				Documents à télécharger\n				Les documents seront publiés au fur et à mesure de leur disponibilité \n\nOrdre du jour – mise à jour 2024-10-31\nMotions – mise à jour 2024-11-01\nAnnexe A – Procès-verbal (25 mai 2024) – mise à jour 2024-11-19\nAnnexe B – État de financement 2024 de l’équipe dirigeante en matière de financement et soutien – mise à jour 2024-12-05\nAnnexe C – Candidatures des personnes déléguées au 45e Conseil général (CG45) – mise à jour 2024-11-01\nAnnexe D1 – Proposition visant à remédier à la baisse du nombre de membres grâce au développement du ministère interculturel de l’Église Unie du Canada – mise à jour 2024-11-01\nAnnexe D2 – GC 45 Proposal to create a policy regarding the use of artificial intelligence (AI) – en anglais (version française à venir)\nAnnexe E1 –\n\nBudget pour 2025 (conseil régional) – mise à jour 2024-11-07\nBudget pour 2025 (conseil régional) – GRAPHIQUE – mise à jour 2024-11-07\n\n\nAnnexe E2 –\n\nBudget pour 2025 (Conseil des finances et de l’expansion) – mise à jour 2024-11-07\nBudget pour 2025 (Conseil des finances et de l’expansion) – GRAPHIQUE – mise à jour 2024-11-07\n\n\n\n			\n				\n				\n				\n				\n				Ressources post-réunion\n				Présentations\nTom Rigby\, Callosum – Rapport sur résultats des groupes de discussion \nTori Mullin – Profils des quartiers \n\nExercices / prière\nLien vers la vidéo de Sharon Buttrey (en anglais) \n\nNotes des groupes de discussion\n\nRésultats des groupes de discussion\nProposition pour CG45 : Ministères interculturels\nProposition pour CG45 : Politique sur l’usage d’intelligence artificielle\nProfils des quartiers\n\nRessources et résultats à propos de l’équité\n\nGraphique : lentille interculturelle\nRésultats des fiches d’évaluations à propos de l’équité
URL:https://nakonhakaucc.ca/fr/evenement/rassemblement-du-conseil-regional-novembre-2024-en-ligne/
CATEGORIES:EN LIGNE,rassemblement régional
ATTACH;FMTTYPE=image/png:https://nakonhakaucc.ca/fr/wp-content/uploads/sites/2/2024/01/2024-11-1-2-CrNRC-F.png
ORGANIZER;CN="Valerie Nickson":MAILTO:valerieepps00@gmail.com
END:VEVENT
END:VCALENDAR