BEGIN:VCALENDAR
VERSION:2.0
PRODID:-//Conseil régional Nakonha:ka - ECPv6.15.20//NONSGML v1.0//EN
CALSCALE:GREGORIAN
METHOD:PUBLISH
X-WR-CALNAME:Conseil régional Nakonha:ka
X-ORIGINAL-URL:https://nakonhakaucc.ca/fr
X-WR-CALDESC:Évènements pour Conseil régional Nakonha:ka
REFRESH-INTERVAL;VALUE=DURATION:PT1H
X-Robots-Tag:noindex
X-PUBLISHED-TTL:PT1H
BEGIN:VTIMEZONE
TZID:America/Toronto
BEGIN:DAYLIGHT
TZOFFSETFROM:-0500
TZOFFSETTO:-0400
TZNAME:EDT
DTSTART:20240310T070000
END:DAYLIGHT
BEGIN:STANDARD
TZOFFSETFROM:-0400
TZOFFSETTO:-0500
TZNAME:EST
DTSTART:20241103T060000
END:STANDARD
BEGIN:DAYLIGHT
TZOFFSETFROM:-0500
TZOFFSETTO:-0400
TZNAME:EDT
DTSTART:20250309T070000
END:DAYLIGHT
BEGIN:STANDARD
TZOFFSETFROM:-0400
TZOFFSETTO:-0500
TZNAME:EST
DTSTART:20251102T060000
END:STANDARD
BEGIN:DAYLIGHT
TZOFFSETFROM:-0500
TZOFFSETTO:-0400
TZNAME:EDT
DTSTART:20260308T070000
END:DAYLIGHT
BEGIN:STANDARD
TZOFFSETFROM:-0400
TZOFFSETTO:-0500
TZNAME:EST
DTSTART:20261101T060000
END:STANDARD
END:VTIMEZONE
BEGIN:VEVENT
DTSTART;TZID=America/Toronto:20251115T090000
DTEND;TZID=America/Toronto:20251115T160000
DTSTAMP:20260419T155004
CREATED:20251027T181035Z
LAST-MODIFIED:20260318T123539Z
UID:13203-1763197200-1763222400@nakonhakaucc.ca
SUMMARY:Rassemblement du conseil régional - 15 novembre 2025 (hybride)
DESCRIPTION:La réunion du conseil régional du 15 novembre se tiendra sur Zoom et en personne de 9h à 16h à l’église unie St. Paul de Magog.  Les inscriptions sont désormais ouvertes ci-dessous. Les documents sont maintenant disponibles. Merci de votre patience! \n\n\n\n \nAgenda\n\n\nHeure\n \n\n\n8:45\nRassemblement\n\n\n9:00\nReconnaissance du territoire ; Ohenton Kariwatekwon\n\n\n9:15\nCulte (y compris lecture de la Bible mohawk)\n\n\n9:30\nRapport sur le GC\n\n\n10:00\n2035\, énoncé de vision\, gardiens de la vision\n\n\n10:20\nProcessus d’affirmation – Introduction\, témoignages\n\n\n10:35\nProcessus d’affirmation – Discussion\n\n\n10:45\nIntroduction HFTB et pause santé\n\n\n11:00\nNominations Équipe de direction\, président élu\n\n\n11:15\nBudget 2026\n\n\n11:20\nOctroi et habilitation – État du financement\n\n\n11:30\nDiscours liminaire – Morgan Bell\n\n\n12:00\nDiscours liminaire – Discussion\n\n\n12:15\nQuestions émergentes\n\n\n12:25\nDéclaration de clôture de notre réunion\n\n\n12:30\nLunch\n\n\n13:00\nPoursuite du lunch et répétition de la chorale\n\n\n13:45\nSanctuaire ouvert à tous\n\n\n14:00\nCélébration du 100e anniversaire\, y compris discours de clôture\n\n\n\n			\n				\n				\n				\n				\n				Inscription\n				\n\n                \n                        \n                            2025-11-15 Rassemblement du Conseil régional Nakonha:ka (hybride)\n                            Formulaire d’inscription destiné aux personnes représentantes laïques (adultes\, jeunes et jeunes adultes)\, au personnel ministériel actif et retraité\, au personnel du conseil régional et du Conseil général\, et aux invité(e)s au rassemblement du Conseil régional Nakonha:ka \n                        \n                        PhoneCe champ n’est utilisé qu’à des fins de validation et devrait rester inchangé.IDENTIFICATIONNom\n                            \n                            \n                                                    Prénom\n                                                    \n                                                \n                            \n                            \n                                                            Nom de famille\n                                                            \n                                                        \n                            \n                        Courriel\n                                \n                                    \n                                    Saisissez un e-mail\n                                \n                                \n                                    \n                                    Confirmez l’e-mail\n                                \n                                \n                            Téléphone principalNuméro de poste téléphonique\, le cas échéantInscriptionSi vous ne pouvez y assister\, veuillez en informer Joel Miller en lui écrivant a jmiller@united-church.ca.\n								\n								Je participerai sur place le samedi 15 novembre\n							\n								\n								Je participerai (via Zoom) le samedi 15 novembre\n							Service de gardiennageSi vous participez en personne avez-vous besoin d'un service de gardiennage? Si oui\, veuillez indiquer le nombre d'enfants qui seront présents\, et leur âge.RôleVeuillez cocher les éléments ci-dessous qui correspondent à votre lien avec le Conseil régional Nakonha:ka.\n								\n								Personne représentante laïque (adulte > 35)\n							\n								\n								Pasteur / Pasteure\n							\n								\n								Candidate / candidat\n							\n								\n								Personnel célébrant laïque agréé\n							\n								\n								Personne invitée / visiteur (sans droit de vote)\n							\n								\n								Personnel (du conseil régional ou du Conseil général)\n							\n								\n								Autre\n							Si autre\, veuillez préciserVotre communauté de foi / ou 'aucun' si non applicableLe nom de votre communauté de foi depuis le 1er juillet 2025.Lieu de votre communauté de foi / ou 'aucun' si sans objetLe nom de la ville ou du village où est située votre communauté de foiLes pronomsQuel pronom devrions-nous utiliser à votre endroit?\n			\n					\n					il/lui\n			\n			\n					\n					elle\n			\n			\n					\n					iel\n			\n			\n					\n					Autre\n			Mise à jour de votre adresse pour notre base de données (si vous avez déménagé)    \n                    \n                         \n                                        Adresse postale\n                                        \n                                   \n                                        Adresse ligne 2\n                                        \n                                    \n                                    Ville\n                                    \n                                 \n                                        Province\n                                        \n                                      \n                                    Code postal\n                                    \n                                \n                                        Pays\n                                        AfghanistanAfrique du SudAlbanieAlgérieAllemagneAndorreAngolaAnguillaAntarctiqueAntigua-et-BarbudaArabie SaouditeArgentineArménieArubaAustralieAutricheAzerbaïdjanBahamasBahreïnBangladeshBelarusBelgiqueBelizeBermudesBhoutanBolivieBonaire\, Saint-Eustache et SabaBosnie-HerzégovineBotswanaBrunei DarussalamBrésilBulgarieBurkina FasoBurundiBéninCambodgeCamerounCanadaCap-VertChiliChineChypreColombieComoresCongoCorée (République de)Corée (République populaire démocratique de)Costa RicaCroatieCubaCuraçaoCôte d’IvoireDanemarkDjiboutiDominiqueEspagneEstonieEswatiniFidjiFinlandeFranceFédération RusseGabonGambieGhanaGibraltarGrenadeGroenlandGrèceGuadeloupeGuamGuatemalaGuernseyGuinéeGuinée équatorialeGuinée-BissauGuyaneGuyaneGéorgieGéorgie du Sud et Îles Sandwich du SudHaïtiHondurasHong KongHongrieIndeIndonésieIrakIranIrlandeIslandeIsraëlItalieJamaïqueJaponJerseyJordanieKazakhstanKenyaKirghizistanKiribatiKoweïtLa BarbadeLa RéunionLesothoLettonieLibanLiberiaLibyeLiechtensteinLituanieLuxembourgMacaoMacédoine du NordMadagascarMalaisieMalawiMaldivesMaliMalteMarocMartiniqueMauritanieMayotteMexiqueMicronésieMoldavieMonacoMongolieMontserratMonténégroMozambiqueMyanmarNamibieNauruNicaraguaNigerNigériaNiuéNorvègeNouvelle-CalédonieNouvelle-ZélandeNépalOmanOugandaOuzbékistanPakistanPalauPanamaPapouasie-Nouvelle-GuinéeParaguayPays-BasPhilippinesPolognePolynésie françaisePorto RicoPortugalPérouQatarRoumanieRoyaume-UniRwandaRépublique DominicaineRépublique TchèqueRépublique arabe syrienneRépublique centrafricaineRépublique démocratique du CongoRépublique démocratique populaire du LaosSahara occidentalSaint BarthélemySaint MartinSaint Pierre et MiquelonSaint-Christophe-et-NevisSaint-MarinSaint-SiègeSaint-Vincent-et-les GrenadinesSainte-Hélène\, Ascension et Tristan da CunhaSainte-LucieSalvadorSamoaSamoa américainesSao Tomé et PrincipeSerbieSeychellesSierra LeoneSingapourSint MaartenSlovaquieSlovénieSomalieSoudanSoudan du SudSri LankaSuisseSurinameSuèdeSénégalTadjikistanTanzanie (République-Unie de)TaïwanTchadTerres Australes FrançaisesTerritoire britannique de l’océan IndienThaïlandeTimor orientalTogoTokelauTongaTrinité et TobagoTunisieTurkménistanTurquieTuvaluUkraineUruguayVanuatuVenezuelaVietnamWallis et FutunaYémenZambieZimbabweÉgypteÉmirats arabes unisÉquateurÉrythréeÉtat palestinienÉtats-UnisÉthiopieÎle BouvetÎle ChristmasÎle MauriceÎle NorfolkÎle de ManÎles CaymanÎles CocosÎles CookÎles FalklandÎles FéroéÎles Heard et McDonaldÎles Mariannes du NordÎles MarshallÎles PitcairnÎles SalomonÎles Turques et CaïquesÎles Vierges américainesÎles Vierges britanniquesÎles de Svalbard et Jan MayenÎles mineures américainesÎles Åland \n                                    \n                    \n                PARTICIPATION À LA RÉUNIONJe souhaite apporter mon aide lors de cette réunion (ou d'une prochaine réunion) en\n								\n								participant dans le culte\n							\n								\n								participant dans l'équipe d'équité\n							\n								\n								participant dans la planification d'un futur rassemblement\n							\n								\n								Autre\n							Langue préférée pour les petits groupes?\n								\n								Anglais\n							\n								\n								Français\n							\n								\n								Bilingue\n							Avez-vous besoin d’une traduction simultanée?\n			\n					\n					Oui\n			\n			\n					\n					Non\n			Avez-vous besoin d'accomodations spéciales? Si oui\, veuillez spécifier ci-dessous.CONFIDENTIALITÉ ET CONSENTEMENTLa collecte des renseignements de ce formulaire d’inscription est uniquement destinée au Conseil régional Nakonha:ka. Veuillez noter qu’il y aura des enregistrements vidéos pendant la rencontre régionale et qu’il peut y avoir également des prises de photographies. Ces images pourront être publiées ou affichées en ligne dans les galeries de photos de notre site Web ou utilisées à la discrétion du Conseil régional Nakonha:ka. En soumettant ce formulaire d'inscription\, vous indiquez votre consentement à la collecte et à l'utilisation de vos renseignements et de votre image (photo et ou vidéo) par le Conseil régional Nakonha:ka.Consentement J'accepte la politique de confidentialité et la collecte de renseignements personnels.Consentement J'accepte que des captures d'écran\, des vidéos et des photos de cet événement soient utilisées sur les plateformes de communication du conseil régional (Web\, médias sociaux\, bulletin\, etc.).Fin de l'inscription : cliquez sur « Soumettre » pour poursuivre.Si vous avez des questions\, veuillez contacter Aviyah (aabrams@united-church.ca)\n          \n            \n            \n            \n            \n            \n            \n            \n            \n            \n            \n            \n            \n            \n        \n                        \n                        \n \n			\n				\n				\n				\n				\n				Documents à télécharger\n				\n\n\n• MOTIONS 2025-11-15_AG d’automne MOTIONS Mise à jour le 2025-11-13• Annexe A – AVC (juin 2025) Projet de procès-verbal 2025-06-07_AG_printemps_Procès-verbal_projet Mise à jour le 2025-11-13• Annexe B1 – Détails du budget RC 2026 (EN uniquement) Appendix B1_2026 CrNRC Budget – E – Details Mise à jour le 2025-11-10• Annexe B2 – Graphiques du budget RC 2026 (EN uniquement) Appendix B2_2026 CnRNC Budget GRAPHS Mise à jour le 2025-11-10• Annexe C1 – Détails du budget F&E 2026 (EN uniquement) Appenidx C1_2026 F & E Budget – E – Details Mise à jour le 2025-11-10• Annexe C2 – Graphiques du budget F&E 2026 (EN uniquement) Appendix C2_2026 F & E Budget – E&F GRAPHS Mise à jour le 2025-11-10• Annexe D – Rapport de l’équipe de direction sur les subventions et les mesures habilitantes (novembre 2025) (EN uniquement) Appendix D_Granting & Enabling Report (Nov. 2025) Mise à jour le 2025-11-10 \n			\n				\n				\n				\n				\n				Ressources post-réunion\n				2025-11-15_AG d’automne DÉCISIONS \nAnnexe C_ 2024_Cahier des rapports \nAnnexe D Manuel de gouvernance Mars 2025
URL:https://nakonhakaucc.ca/fr/evenement/rassemblement-du-conseil-regional-15-novembre-2025-hybride/
LOCATION:Église unie St-Paul\, 211 Rue des Pins\, Magog\, Quebec\, J1X 2H8\, Canada
CATEGORIES:rassemblement régional,séance d'apprentissage
ATTACH;FMTTYPE=image/jpeg:https://nakonhakaucc.ca/fr/wp-content/uploads/sites/2/2025/10/100-ans-poster-Version-1-scaled.jpg
ORGANIZER;CN="Pasteure Virginia Wallace":MAILTO:virlynwal@hotmail.ca
END:VEVENT
END:VCALENDAR