BEGIN:VCALENDAR
VERSION:2.0
PRODID:-//Conseil régional Nakonha:ka - ECPv6.15.20//NONSGML v1.0//EN
CALSCALE:GREGORIAN
METHOD:PUBLISH
X-ORIGINAL-URL:https://nakonhakaucc.ca/fr
X-WR-CALDESC:Évènements pour Conseil régional Nakonha:ka
REFRESH-INTERVAL;VALUE=DURATION:PT1H
X-Robots-Tag:noindex
X-PUBLISHED-TTL:PT1H
BEGIN:VTIMEZONE
TZID:America/Toronto
BEGIN:DAYLIGHT
TZOFFSETFROM:-0500
TZOFFSETTO:-0400
TZNAME:EDT
DTSTART:20240310T070000
END:DAYLIGHT
BEGIN:STANDARD
TZOFFSETFROM:-0400
TZOFFSETTO:-0500
TZNAME:EST
DTSTART:20241103T060000
END:STANDARD
BEGIN:DAYLIGHT
TZOFFSETFROM:-0500
TZOFFSETTO:-0400
TZNAME:EDT
DTSTART:20250309T070000
END:DAYLIGHT
BEGIN:STANDARD
TZOFFSETFROM:-0400
TZOFFSETTO:-0500
TZNAME:EST
DTSTART:20251102T060000
END:STANDARD
BEGIN:DAYLIGHT
TZOFFSETFROM:-0500
TZOFFSETTO:-0400
TZNAME:EDT
DTSTART:20260308T070000
END:DAYLIGHT
BEGIN:STANDARD
TZOFFSETFROM:-0400
TZOFFSETTO:-0500
TZNAME:EST
DTSTART:20261101T060000
END:STANDARD
END:VTIMEZONE
BEGIN:VEVENT
DTSTART;TZID=America/Toronto:20250328T183000
DTEND;TZID=America/Toronto:20250329T130000
DTSTAMP:20260422T144435
CREATED:20250225T170724Z
LAST-MODIFIED:20260318T123434Z
UID:11608-1743186600-1743253200@nakonhakaucc.ca
SUMMARY:Rassemblement du conseil régional - les 28 et 29 mars 2025 (en ligne)
DESCRIPTION:La réunion du Conseil régional des 28 et 29 mars se déroulera sur Zoom. Les présentations offertes lors de cette rencontre exploreront le thème suivant: Oser la justice dans l’humilité. Nous discuterons de ce thème grâce à diverses présentations\, telles que: Le réexamen du colonialisme et la résurrection du processus du Conseil d’Affirmation. Nous espérons vous y voir en grand nombre! \n			\n				\n				\n				\n				\n				Inscription\n				\n\n                \n                        \n                            2025-03-28-29 Rassemblement du Conseil régional Nakonha:ka (en ligne)\n                            Formulaire d’inscription destiné aux personnes représentantes laïques (adultes\, jeunes et jeunes adultes)\, au personnel ministériel actif et retraité\, au personnel du conseil régional et du Conseil général\, et aux invité(e)s au rassemblement du Conseil régional Nakonha:ka. \n							« * » indique les champs nécessaires \n                        \n                        URLCe champ n’est utilisé qu’à des fins de validation et devrait rester inchangé.IDENTIFICATIONNom*\n                            \n                            \n                                                    Prénom\n                                                    \n                                                \n                            \n                            \n                                                            Nom de famille\n                                                            \n                                                        \n                            \n                        Courriel*\n                                \n                                    \n                                    Saisissez un e-mail\n                                \n                                \n                                    \n                                    Confirmez l’e-mail\n                                \n                                \n                            Téléphone principal*Numéro de poste téléphonique\, le cas échéantInscription*\n								\n								Je participerai (via Zoom) le vendredi soir 28 mars\n							\n								\n								Je participerai (via Zoom) le samedi matin 29 mars\n							Rôle*Veuillez cocher les éléments ci-dessous qui correspondent à votre lien avec le Conseil régional Nakonha:ka.\n								\n								Pasteur / Pasteure\n							\n								\n								Candidate / candidat\n							\n								\n								Personnel célébrant laïque agréé\n							\n								\n								Personne invitée / visiteur (sans droit de vote)\n							\n								\n								Personnel (du conseil régional ou du Conseil général)\n							\n								\n								Moins de 30 ans\n							\n								\n								Autre\n							Si autre\, veuillez préciserVotre communauté de foi / ou 'aucun' si non applicable*Le nom de votre communauté de foi depuis le 1er janvier 2024.Lieu de votre communauté de foi / ou 'aucun' si sans objetLe nom de la ville ou du village où est située votre communauté de foiLes pronomsQuel pronom devrions-nous utiliser à votre endroit?\n			\n					\n					il\n			\n			\n					\n					elle\n			\n			\n					\n					iel\n			\n			\n					\n					Autre\n			Mise à jour de votre adresse pour notre base de données (si vous avez déménagé)    \n                    \n                         \n                                        Adresse postale\n                                        \n                                   \n                                        Adresse ligne 2\n                                        \n                                    \n                                    Ville\n                                    \n                                 \n                                        Province\n                                        \n                                      \n                                    Code postal\n                                    \n                                \n                                        Pays\n                                        AfghanistanAfrique du SudAlbanieAlgérieAllemagneAndorreAngolaAnguillaAntarctiqueAntigua-et-BarbudaArabie SaouditeArgentineArménieArubaAustralieAutricheAzerbaïdjanBahamasBahreïnBangladeshBelarusBelgiqueBelizeBermudesBhoutanBolivieBonaire\, Saint-Eustache et SabaBosnie-HerzégovineBotswanaBrunei DarussalamBrésilBulgarieBurkina FasoBurundiBéninCambodgeCamerounCanadaCap-VertChiliChineChypreColombieComoresCongoCorée (République de)Corée (République populaire démocratique de)Costa RicaCroatieCubaCuraçaoCôte d’IvoireDanemarkDjiboutiDominiqueEspagneEstonieEswatiniFidjiFinlandeFranceFédération RusseGabonGambieGhanaGibraltarGrenadeGroenlandGrèceGuadeloupeGuamGuatemalaGuernseyGuinéeGuinée équatorialeGuinée-BissauGuyaneGuyaneGéorgieGéorgie du Sud et Îles Sandwich du SudHaïtiHondurasHong KongHongrieIndeIndonésieIrakIranIrlandeIslandeIsraëlItalieJamaïqueJaponJerseyJordanieKazakhstanKenyaKirghizistanKiribatiKoweïtLa BarbadeLa RéunionLesothoLettonieLibanLiberiaLibyeLiechtensteinLituanieLuxembourgMacaoMacédoine du NordMadagascarMalaisieMalawiMaldivesMaliMalteMarocMartiniqueMauritanieMayotteMexiqueMicronésieMoldavieMonacoMongolieMontserratMonténégroMozambiqueMyanmarNamibieNauruNicaraguaNigerNigériaNiuéNorvègeNouvelle-CalédonieNouvelle-ZélandeNépalOmanOugandaOuzbékistanPakistanPalauPanamaPapouasie-Nouvelle-GuinéeParaguayPays-BasPhilippinesPolognePolynésie françaisePorto RicoPortugalPérouQatarRoumanieRoyaume-UniRwandaRépublique DominicaineRépublique TchèqueRépublique arabe syrienneRépublique centrafricaineRépublique démocratique du CongoRépublique démocratique populaire du LaosSahara occidentalSaint BarthélemySaint MartinSaint Pierre et MiquelonSaint-Christophe-et-NevisSaint-MarinSaint-SiègeSaint-Vincent-et-les GrenadinesSainte-Hélène\, Ascension et Tristan da CunhaSainte-LucieSalvadorSamoaSamoa américainesSao Tomé et PrincipeSerbieSeychellesSierra LeoneSingapourSint MaartenSlovaquieSlovénieSomalieSoudanSoudan du SudSri LankaSuisseSurinameSuèdeSénégalTadjikistanTanzanie (République-Unie de)TaïwanTchadTerres Australes FrançaisesTerritoire britannique de l’océan IndienThaïlandeTimor orientalTogoTokelauTongaTrinité et TobagoTunisieTurkménistanTurquieTuvaluUkraineUruguayVanuatuVenezuelaVietnamWallis et FutunaYémenZambieZimbabweÉgypteÉmirats arabes unisÉquateurÉrythréeÉtat palestinienÉtats-UnisÉthiopieÎle BouvetÎle ChristmasÎle MauriceÎle NorfolkÎle de ManÎles CaymanÎles CocosÎles CookÎles FalklandÎles FéroéÎles Heard et McDonaldÎles Mariannes du NordÎles MarshallÎles PitcairnÎles SalomonÎles Turques et CaïquesÎles Vierges américainesÎles Vierges britanniquesÎles de Svalbard et Jan MayenÎles mineures américainesÎles Åland \n                                    \n                    \n                PARTICIPATION À LA RÉUNIONJe souhaite apporter mon aide lors de cette réunion (ou d'une prochaine réunion) en\n								\n								participant dans le culte\n							\n								\n								participant dans l'équipe d'équité\n							\n								\n								participant dans la planification d'un futur rassemblement\n							\n								\n								participant pour l'animation de sous-groupes\n							\n								\n								Autre\n							Langue préférée pour les petits groupes?\n								\n								Anglais\n							\n								\n								Français\n							\n								\n								Bilingue\n							Avez-vous besoin d’une traduction simultanée?\n			\n					\n					Oui\n			\n			\n					\n					Non\n			RéflexionComment décririez-vous le contexte ministériel de votre communauté de foi ?\n			\n					\n					Zone rurale / petite ville\n			\n			\n					\n					Banlieue\n			\n			\n					\n					Urbain\n			\n			\n					\n					Autre\n			Quels sont les autres sujets que vous aimeriez voir abordés lors de rassemblements subséquents?CONFIDENTIALITÉ ET CONSENTEMENTLe Conseil régional Nakonha:ka protège vos renseignements personnels en respectant toutes les exigences de la législation en matière de protection de la vie privée. La collecte des renseignements de ce formulaire d’inscription est uniquement destinée au Conseil régional Nakonha:ka. Veuillez noter qu’il y aura des enregistrements vidéos pendant la rencontre régionale et qu’il peut y avoir également des prises de photographies. Ces images pourront être publiées ou affichées en ligne dans les galeries de photos de notre site Web ou utilisées à la discrétion du Conseil régional Nakonha:ka. En soumettant ce formulaire d'inscription\, vous indiquez votre consentement à la collecte et à l'utilisation de vos renseignements et de votre image (photo et ou vidéo) par le Conseil régional Nakonha:ka.Consentement J'accepte la politique de confidentialité et la collecte de renseignements personnels.Fin de l'inscription : cliquez sur « Soumettre » pour poursuivre.Si vous avez des questions\, veuillez contacter Aviyah (aabrams@united-church.ca)\n           Enregistrer et continuer plus tard\n            \n            \n            \n            \n            \n            \n                             \n            \n            \n            \n            \n            \n            \n            \n        \n                        \n                        \n \n			\n				\n				\n				\n				\n				Documents à télécharger\n				Les documents seront publiés au fur et à mesure de leur disponibilité \n\nOrdre du jour – mise à jour 2025-03-27\n2025-03-28-29_AGA_MOTIONS_FR– mise à jour 2025-03-27\nAnnexe B – 2024-11-01 Plan stratégique – Rapport provisoire– mise à jour 2025-03-11\n2024_Cahier des rapports– mise à jour 2025-03-31\nManuel de gouvernance (Mars 2025) – mise à jour 2025-04-09\n2025-03-28-29_AGA_DÉCISIONS_FR – mise à jour 2025-03-29\nMinistère du premier tiers de vie du Conseil régional Nakonhaka – mise à jour 2025-04-09\n\n  \n			\n				\n				\n				\n				\n				Ressources post-réunion\n				Présentation « Upholding Sacred Obligations: Final Report Of The Special Interlocutor For Missing And Disappeared Children And Unmarked Burials » – Sara Stratton\, Reconciliation and Indigenous Justice Animator Nakonhaka SI Presentation Notes \nPrésentation « On Becomming an Affirming Regional Council » Affirm – RC Meeting March 2025 \nPrésentation « The United Church of Canada Foundation / Mission & Service » – Sarah Charters\, CFRE\, Executive Officer\, Philanthropy\, The United Church of Canada\, President\, United Church of Canada Foundation Mission and Service and Foundation presentation\, Mission and Service RC Video-en-US\, Mission and Service_Camp cosmos video transcript \n2025-03-28-29_AGA d’hiver –Mise à jour 2026-03-18
URL:https://nakonhakaucc.ca/fr/evenement/rassemblement-du-conseil-regional-mars-2025-en-ligne-2/
CATEGORIES:EN LIGNE,rassemblement régional
ATTACH;FMTTYPE=image/jpeg:https://nakonhakaucc.ca/fr/wp-content/uploads/sites/2/2025/02/Justice-in-Humility-poster-FR-scaled.jpg
ORGANIZER;CN="Valerie Nickson":MAILTO:valerieepps00@gmail.com
END:VEVENT
END:VCALENDAR