BEGIN:VCALENDAR
VERSION:2.0
PRODID:-//Conseil régional Nakonha:ka - ECPv6.15.20//NONSGML v1.0//EN
CALSCALE:GREGORIAN
METHOD:PUBLISH
X-WR-CALNAME:Conseil régional Nakonha:ka
X-ORIGINAL-URL:https://nakonhakaucc.ca/fr
X-WR-CALDESC:Évènements pour Conseil régional Nakonha:ka
REFRESH-INTERVAL;VALUE=DURATION:PT1H
X-Robots-Tag:noindex
X-PUBLISHED-TTL:PT1H
BEGIN:VTIMEZONE
TZID:America/Toronto
BEGIN:DAYLIGHT
TZOFFSETFROM:-0500
TZOFFSETTO:-0400
TZNAME:EDT
DTSTART:20250309T070000
END:DAYLIGHT
BEGIN:STANDARD
TZOFFSETFROM:-0400
TZOFFSETTO:-0500
TZNAME:EST
DTSTART:20251102T060000
END:STANDARD
BEGIN:DAYLIGHT
TZOFFSETFROM:-0500
TZOFFSETTO:-0400
TZNAME:EDT
DTSTART:20260308T070000
END:DAYLIGHT
BEGIN:STANDARD
TZOFFSETFROM:-0400
TZOFFSETTO:-0500
TZNAME:EST
DTSTART:20261101T060000
END:STANDARD
BEGIN:DAYLIGHT
TZOFFSETFROM:-0500
TZOFFSETTO:-0400
TZNAME:EDT
DTSTART:20270314T070000
END:DAYLIGHT
BEGIN:STANDARD
TZOFFSETFROM:-0400
TZOFFSETTO:-0500
TZNAME:EST
DTSTART:20271107T060000
END:STANDARD
END:VTIMEZONE
BEGIN:VEVENT
DTSTART;TZID=America/Toronto:20260320T090000
DTEND;TZID=America/Toronto:20260321T120000
DTSTAMP:20260419T102302
CREATED:20260204T145621Z
LAST-MODIFIED:20260321T165555Z
UID:15371-1773997200-1774094400@nakonhakaucc.ca
SUMMARY:Assemblée générale annuelle en ligne du Conseil régional Nakonha:ka-les 20 et 21 mars 2026
DESCRIPTION:Le contexte est primordial. Il détermine notre façon d’exercer notre ministère\, de parler aux gens\, de nous organiser. Dieu ne cesse pas de nous parler lorsque notre contexte change. Dieu continue de frapper à la porte\, et notre capacité à répondre de manière adaptée au contexte est essentielle. Au Québec\, nous sommes confrontés à des pressions constantes en faveur de la sécularisation. Il est difficile de discuter des avantages de l’Église. Que pouvons-nous apprendre de notre contexte et comment le ministère peut-il rester pertinent dans notre contexte actuel ? Alors que nous passons officiellement en revue le travail que nous avons accompli au cours de l’année écoulée et que nous examinons notre structure\, nous en apprendrons également davantage sur la manière dont la loi affecte notre travail et comment nous pouvons répondre aux besoins du monde. Nous continuons à apprendre comment répondre lorsque l’amour frappe à notre porte. \nLa réunion du conseil régional des 20 et 21 mars se tiendra sur Zoom. Les inscriptions sont désormais ouvertes ci-dessous. Les documents seront publiés dès qu’ils seront disponibles. Merci de votre patience! \n			\n				\n				\n				\n				\n				Inscription\n				\n\n                \n                        \n                            2026-03-20-21 Assemblée générale annuelle du Conseil régional Nakonha:ka\n                            Formulaire d’inscription destiné aux personnes représentantes laïques (adultes\, jeunes et jeunes adultes)\, au personnel ministériel actif et retraité\, au personnel du conseil régional et du Conseil général\, et aux invité(e)s au rassemblement du Conseil régional Nakonha:ka. \n\n\nAprès avoir rempli le formulaire d'inscription\, vous recevrez un courriel de confirmation\, puis un deuxième courriel contenant le lien Zoom pour l'AGA\, ainsi que les informations que vous nous avez fournies. Si vous n'avez reçu qu'un seul des deux courriels\, voire aucun\, veuillez contacter Aviyah Abrams à l'adresse aabrams@united-church.ca. \n                        \n                        InstagramCe champ n’est utilisé qu’à des fins de validation et devrait rester inchangé.IDENTIFICATIONNom\n                            \n                            \n                                                    Prénom\n                                                    \n                                                \n                            \n                            \n                                                            Nom de famille\n                                                            \n                                                        \n                            \n                        Courriel\n                                \n                                    \n                                    Saisissez une adresse courriel\n                                \n                                \n                                    \n                                    Confirmez votre adresse courriel\n                                \n                                \n                            Téléphone principalNuméro de poste téléphonique\, le cas échéantInscriptionSi vous ne pouvez y assister\, veuillez en informer Joel Miller en lui écrivant a jmiller@united-church.ca.\n								\n								Je participerai le vendredi 20 mars\n							\n								\n								Je participerai le samedi 21 mars\n							\n								\n								Je participerai les 20 et 21 mars\n							RôleVeuillez cocher les éléments ci-dessous qui correspondent à votre lien avec le Conseil régional Nakonha:ka.\n								\n								Personne représentante laïque (adulte > 35)\n							\n								\n								Pasteur / Pasteure\n							\n								\n								Candidate / candidat\n							\n								\n								Personnel célébrant laïque agréé\n							\n								\n								Personne invitée / visiteur (sans droit de vote)\n							\n								\n								Personnel (du conseil régional ou du Conseil général)\n							\n								\n								Autre\n							Si autre\, veuillez préciserVotre communauté de foi / ou 'aucun' si non applicableLe nom de votre communauté de foi depuis le 1er janvier 2026.Lieu de votre communauté de foi / ou 'aucun' si sans objetLe nom de la ville ou du village où est située votre communauté de foiLes pronomsQuel pronom devrions-nous utiliser à votre endroit?\n			\n					\n					il/lui\n			\n			\n					\n					elle\n			\n			\n					\n					iel\n			\n			\n					\n					Autre\n			Mise à jour de votre adresse pour notre base de données (si vous avez déménagé)    \n                    \n                         \n                                        Adresse postale\n                                        \n                                   \n                                        Adresse ligne 2\n                                        \n                                    \n                                    Ville\n                                    \n                                 \n                                        Province\n                                        \n                                      \n                                    Code postal\n                                    \n                                \n                                        Pays\n                                        AfghanistanAfrique du SudAlbanieAlgérieAllemagneAndorreAngolaAnguillaAntarctiqueAntigua-et-BarbudaArabie SaouditeArgentineArménieArubaAustralieAutricheAzerbaïdjanBahamasBahreïnBangladeshBelarusBelgiqueBelizeBermudesBhoutanBolivieBonaire\, Saint-Eustache et SabaBosnie-HerzégovineBotswanaBrunei DarussalamBrésilBulgarieBurkina FasoBurundiBéninCambodgeCamerounCanadaCap-VertChiliChineChypreColombieComoresCongoCorée (République de)Corée (République populaire démocratique de)Costa RicaCroatieCubaCuraçaoCôte d’IvoireDanemarkDjiboutiDominiqueEspagneEstonieEswatiniFidjiFinlandeFranceFédération RusseGabonGambieGhanaGibraltarGrenadeGroenlandGrèceGuadeloupeGuamGuatemalaGuernseyGuinéeGuinée équatorialeGuinée-BissauGuyaneGuyaneGéorgieGéorgie du Sud et Îles Sandwich du SudHaïtiHondurasHong KongHongrieIndeIndonésieIrakIranIrlandeIslandeIsraëlItalieJamaïqueJaponJerseyJordanieKazakhstanKenyaKirghizistanKiribatiKoweïtLa BarbadeLa RéunionLesothoLettonieLibanLiberiaLibyeLiechtensteinLituanieLuxembourgMacaoMacédoine du NordMadagascarMalaisieMalawiMaldivesMaliMalteMarocMartiniqueMauritanieMayotteMexiqueMicronésieMoldavieMonacoMongolieMontserratMonténégroMozambiqueMyanmarNamibieNauruNicaraguaNigerNigériaNiuéNorvègeNouvelle-CalédonieNouvelle-ZélandeNépalOmanOugandaOuzbékistanPakistanPalauPanamaPapouasie-Nouvelle-GuinéeParaguayPays-BasPhilippinesPolognePolynésie françaisePorto RicoPortugalPérouQatarRoumanieRoyaume-UniRwandaRépublique DominicaineRépublique TchèqueRépublique arabe syrienneRépublique centrafricaineRépublique démocratique du CongoRépublique démocratique populaire du LaosSahara occidentalSaint BarthélemySaint MartinSaint Pierre et MiquelonSaint-Christophe-et-NevisSaint-MarinSaint-SiègeSaint-Vincent-et-les GrenadinesSainte-Hélène\, Ascension et Tristan da CunhaSainte-LucieSalvadorSamoaSamoa américainesSao Tomé et PrincipeSerbieSeychellesSierra LeoneSingapourSint MaartenSlovaquieSlovénieSomalieSoudanSoudan du SudSri LankaSuisseSurinameSuèdeSénégalTadjikistanTanzanie (République-Unie de)TaïwanTchadTerres Australes FrançaisesTerritoire britannique de l’océan IndienThaïlandeTimor orientalTogoTokelauTongaTrinité et TobagoTunisieTurkménistanTurquieTuvaluUkraineUruguayVanuatuVenezuelaVietnamWallis et FutunaYémenZambieZimbabweÉgypteÉmirats arabes unisÉquateurÉrythréeÉtat palestinienÉtats-UnisÉthiopieÎle BouvetÎle ChristmasÎle MauriceÎle NorfolkÎle de ManÎles CaymanÎles CocosÎles CookÎles FalklandÎles FéroéÎles Heard et McDonaldÎles Mariannes du NordÎles MarshallÎles PitcairnÎles SalomonÎles Turques et CaïquesÎles Vierges américainesÎles Vierges britanniquesÎles de Svalbard et Jan MayenÎles mineures américainesÎles Åland \n                                    \n                    \n                PARTICIPATION À LA RÉUNIONJe souhaite apporter mon aide lors de cette réunion (ou d'une prochaine réunion) en\n								\n								participant dans le culte\n							\n								\n								participant dans l'équipe d'équité\n							\n								\n								participant dans la planification d'un futur rassemblement\n							\n								\n								Autre\n							Langue préférée pour les petits groupes?\n								\n								Anglais\n							\n								\n								Français\n							\n								\n								Bilingue\n							Avez-vous besoin d’une traduction simultanée?\n			\n					\n					Oui\n			\n			\n					\n					Non\n			Avez-vous des questions à propos de la loi 9? Si c'est le cas\, laissez-nous les savoir ci-dessous.Sur quelles questions liées à la justice votre communauté religieuse travaille-t-elle actuellement ?CONFIDENTIALITÉ ET CONSENTEMENTLa collecte des renseignements de ce formulaire d’inscription est uniquement destinée au Conseil régional Nakonha:ka. Veuillez noter qu’il y aura des enregistrements vidéos pendant la rencontre régionale et qu’il peut y avoir également des prises de photographies. Ces images pourront être publiées ou affichées en ligne dans les galeries de photos de notre site Web ou utilisées à la discrétion du Conseil régional Nakonha:ka. En soumettant ce formulaire d'inscription\, vous indiquez votre consentement à la collecte et à l'utilisation de vos renseignements et de votre image (photo et ou vidéo) par le Conseil régional Nakonha:ka.Consentement J'accepte la politique de confidentialité et la collecte de renseignements personnels.Consentement J'accepte que des captures d'écran\, des vidéos et des photos de cet événement soient utilisées sur les plateformes de communication du conseil régional (Web\, médias sociaux\, bulletin\, etc.).Fin de l'inscription : cliquez sur « Soumettre » pour poursuivre.Si vous avez des questions\, veuillez contacter Aviyah (aabrams@united-church.ca)\n          \n            \n            \n            \n            \n            \n            \n            \n            \n            \n            \n            \n            \n            \n        \n                        \n                        \n \n			\n				\n				\n				\n				\n				Documents à télécharger\n				Les documents seront ajoutés à cette page au fur et à mesure de leur disponibilité. Merci de votre patience! \nORDRE DU JOUR-20-21-mars-2026 \n2026-03-20-21_AGA_Motions_FR \nA_2025-11-15_AG d’automne_procès-verbal_projet \nB_2026-03-11 GELT versement des subventions \nD1_Manuel de gouvernance (Mars 2026) \nD2_Politique relative au produit de la vente de propriétés \nD3_Politique de transfert d’un bien immobilier \nProposition de restructuration de la direction \n  \n			\n				\n				\n				\n				\n				Ressources post-réunion\n				2026-03-20-21_AGA_Décisions_FR
URL:https://nakonhakaucc.ca/fr/evenement/assemblee-generale-annuelle-en-ligne-du-conseil-regional-nakonhaka-les-20-et-21-mars-2026/
CATEGORIES:rassemblement régional,séance d'apprentissage
ATTACH;FMTTYPE=image/jpeg:https://nakonhakaucc.ca/fr/wp-content/uploads/sites/2/2026/02/Lamour-attend-la-reponse-a-son-appel-poster-Version-1.C-scaled.jpg
ORGANIZER;CN="Pasteure Virginia Wallace":MAILTO:virlynwal@hotmail.ca
END:VEVENT
END:VCALENDAR