BEGIN:VCALENDAR
VERSION:2.0
PRODID:-//Conseil régional Nakonha:ka - ECPv6.15.20//NONSGML v1.0//EN
CALSCALE:GREGORIAN
METHOD:PUBLISH
X-WR-CALNAME:Conseil régional Nakonha:ka
X-ORIGINAL-URL:https://nakonhakaucc.ca/fr
X-WR-CALDESC:Évènements pour Conseil régional Nakonha:ka
REFRESH-INTERVAL;VALUE=DURATION:PT1H
X-Robots-Tag:noindex
X-PUBLISHED-TTL:PT1H
BEGIN:VTIMEZONE
TZID:America/Toronto
BEGIN:DAYLIGHT
TZOFFSETFROM:-0500
TZOFFSETTO:-0400
TZNAME:EDT
DTSTART:20230312T070000
END:DAYLIGHT
BEGIN:STANDARD
TZOFFSETFROM:-0400
TZOFFSETTO:-0500
TZNAME:EST
DTSTART:20231105T060000
END:STANDARD
BEGIN:DAYLIGHT
TZOFFSETFROM:-0500
TZOFFSETTO:-0400
TZNAME:EDT
DTSTART:20240310T070000
END:DAYLIGHT
BEGIN:STANDARD
TZOFFSETFROM:-0400
TZOFFSETTO:-0500
TZNAME:EST
DTSTART:20241103T060000
END:STANDARD
BEGIN:DAYLIGHT
TZOFFSETFROM:-0500
TZOFFSETTO:-0400
TZNAME:EDT
DTSTART:20250309T070000
END:DAYLIGHT
BEGIN:STANDARD
TZOFFSETFROM:-0400
TZOFFSETTO:-0500
TZNAME:EST
DTSTART:20251102T060000
END:STANDARD
END:VTIMEZONE
BEGIN:VEVENT
DTSTART;VALUE=DATE:20240322
DTEND;VALUE=DATE:20240325
DTSTAMP:20260423T165835
CREATED:20240118T194032Z
LAST-MODIFIED:20240206T162159Z
UID:6984-1711065600-1711324799@nakonhakaucc.ca
SUMMARY:Forum des jeunes - mars 2024
DESCRIPTION:Une retraite d’un fin de semaine pour inspirer\, connecter\, apprendre et inspirer dans un espace qui vous célèbre et vous accueille.\nPour les jeunes du secondaire et du cégep (12-18 ans)\n22 mars a 18h30 – 24 mars a 14h00\nÉglise Unie Mount Bruno – 25 Rue Lakeview\, Saint-Bruno-de-Montarville\, QC J3V 2L4\n60$ (Si ce n’est pas possible\, veuillez en parler à Shanna) \n—————————————– \nCome to a weekend Retreat to inspire\, connect\, inspire\, and learn in a space that celebrates and welcomes you!\nYouth Forum is an event for youth\, planned by youth.\nTheme: Neurodiversity – Understanding mine & my neighbours’ brains\nMarch 22\, 2024- 6:30pm – March 24\, 2:00pm\nLocation: Mount Bruno United Church – 25 Rue Lakeview\, Saint-Bruno-de-Montarville\, QC J3V 2L4\nYouth Forum is for High school & Cegep aged Youth (12-18)\nCost: 60$ (If this is not possible\, please speak to Shanna)\nFor more info contact Shanna Bernier\nsbernier@united-church.ca
URL:https://nakonhakaucc.ca/fr/evenement/forum-des-jeunes-mars-2024/
LOCATION:Mount Bruno United Church\, 25 Rue Lakeview\, Saint-Bruno-de-Montarville\, QC\, J3V 2L4\, Canada
CATEGORIES:jeunes et jeunes adultes,retraite
ATTACH;FMTTYPE=image/jpeg:https://nakonhakaucc.ca/fr/wp-content/uploads/sites/2/2024/01/2024-03-22-24-Forum-Jeunesse.jpg
ORGANIZER;CN="Shanna Bernier":MAILTO:sbernier@united-church.ca
END:VEVENT
END:VCALENDAR