BEGIN:VCALENDAR
VERSION:2.0
PRODID:-//Conseil régional Nakonha:ka - ECPv6.15.20//NONSGML v1.0//EN
CALSCALE:GREGORIAN
METHOD:PUBLISH
X-ORIGINAL-URL:https://nakonhakaucc.ca/fr
X-WR-CALDESC:Évènements pour Conseil régional Nakonha:ka
REFRESH-INTERVAL;VALUE=DURATION:PT1H
X-Robots-Tag:noindex
X-PUBLISHED-TTL:PT1H
BEGIN:VTIMEZONE
TZID:America/Toronto
BEGIN:DAYLIGHT
TZOFFSETFROM:-0500
TZOFFSETTO:-0400
TZNAME:EDT
DTSTART:20220313T070000
END:DAYLIGHT
BEGIN:STANDARD
TZOFFSETFROM:-0400
TZOFFSETTO:-0500
TZNAME:EST
DTSTART:20221106T060000
END:STANDARD
BEGIN:DAYLIGHT
TZOFFSETFROM:-0500
TZOFFSETTO:-0400
TZNAME:EDT
DTSTART:20230312T070000
END:DAYLIGHT
BEGIN:STANDARD
TZOFFSETFROM:-0400
TZOFFSETTO:-0500
TZNAME:EST
DTSTART:20231105T060000
END:STANDARD
BEGIN:DAYLIGHT
TZOFFSETFROM:-0500
TZOFFSETTO:-0400
TZNAME:EDT
DTSTART:20240310T070000
END:DAYLIGHT
BEGIN:STANDARD
TZOFFSETFROM:-0400
TZOFFSETTO:-0500
TZNAME:EST
DTSTART:20241103T060000
END:STANDARD
END:VTIMEZONE
BEGIN:VEVENT
DTSTART;VALUE=DATE:20230929
DTEND;VALUE=DATE:20231002
DTSTAMP:20260424T070942
CREATED:20230831T175122Z
LAST-MODIFIED:20231031T153615Z
UID:6057-1695945600-1696204799@nakonhakaucc.ca
SUMMARY:Retraite pour tous.tes qui offrent un ministère
DESCRIPTION:La date limite pour s’inscrire à la Retraite bilingue pour toutes les personnes œuvrant dans un ministère du Conseil régional Nakonha:ka Regional Council est le 8 septembre. \nLe vendredi 29 septembre est une journée de retraite pour les pasteurs et les pasteures. \nLe samedi 30 septembre est une journée de co-apprentissage pour les pasteurs et les pasteures\, les APL et le PCLA. \nLe dimanche 1er octobre est une journée de retraite pour les APL et le PCLA. \nLa retraite a lieu au Manoir D’Youville\, sur l’île Bernard à Châteauguay. \nDe nombreux pasteurs et laïcs m’ont confié souffrir d’un sentiment d’isolement et m’ont exprimé le désir de se retrouver entre collègues et avec d’autres personnes œuvrant dans un ministère pour partager leur vécu et élargir leurs horizons. Voici une belle occasion de briser cet isolement et tisser de nouveaux liens avec ceux qui comme eux sont appelés à offrir du leadership aux disciples de Jésus. \nAlors je vous invite à vous joindre à nous pour prier\, apprendre et nous entraider\, et à vous inscrire sans plus tarder. \n\nPour de plus amples renseignements\, vous pouvez vous adresser à \nDan Hayward :dhayward@united-church.ca \nDavid-Roger Gagnon :drgagnon@united-church.ca \n\n  \n			\n				\n				\n				\n				\n				Sondage d'évaluation
URL:https://nakonhakaucc.ca/fr/evenement/retraite-pour-tous-tes-qui-offrent-un-ministere/
LOCATION:Manoir d’Youville\, 498 Bd D'Youville\, Châteauguay\, QC\, J6J 5T9\, Canada
CATEGORIES:personnel ministériel,retraite
ATTACH;FMTTYPE=image/jpeg:https://nakonhakaucc.ca/fr/wp-content/uploads/sites/2/2023/08/2023-MinistryRetreat-banner.jpg
ORGANIZER;CN="Dan Hayward (pasteur)":MAILTO:dhayward@united-church.ca
END:VEVENT
END:VCALENDAR