BEGIN:VCALENDAR
VERSION:2.0
PRODID:-//Conseil régional Nakonha:ka - ECPv6.15.20//NONSGML v1.0//EN
CALSCALE:GREGORIAN
METHOD:PUBLISH
X-ORIGINAL-URL:https://nakonhakaucc.ca/fr
X-WR-CALDESC:Évènements pour Conseil régional Nakonha:ka
REFRESH-INTERVAL;VALUE=DURATION:PT1H
X-Robots-Tag:noindex
X-PUBLISHED-TTL:PT1H
BEGIN:VTIMEZONE
TZID:America/Toronto
BEGIN:DAYLIGHT
TZOFFSETFROM:-0500
TZOFFSETTO:-0400
TZNAME:EDT
DTSTART:20220313T070000
END:DAYLIGHT
BEGIN:STANDARD
TZOFFSETFROM:-0400
TZOFFSETTO:-0500
TZNAME:EST
DTSTART:20221106T060000
END:STANDARD
BEGIN:DAYLIGHT
TZOFFSETFROM:-0500
TZOFFSETTO:-0400
TZNAME:EDT
DTSTART:20230312T070000
END:DAYLIGHT
BEGIN:STANDARD
TZOFFSETFROM:-0400
TZOFFSETTO:-0500
TZNAME:EST
DTSTART:20231105T060000
END:STANDARD
BEGIN:DAYLIGHT
TZOFFSETFROM:-0500
TZOFFSETTO:-0400
TZNAME:EDT
DTSTART:20240310T070000
END:DAYLIGHT
BEGIN:STANDARD
TZOFFSETFROM:-0400
TZOFFSETTO:-0500
TZNAME:EST
DTSTART:20241103T060000
END:STANDARD
END:VTIMEZONE
BEGIN:VEVENT
DTSTART;VALUE=DATE:20231103
DTEND;VALUE=DATE:20231106
DTSTAMP:20260424T032843
CREATED:20231020T145034Z
LAST-MODIFIED:20231020T145134Z
UID:6200-1698969600-1699228799@nakonhakaucc.ca
SUMMARY:Forum des jeunes - novembre 2023
DESCRIPTION:Le Forum des jeunes est un week-end de retraite pour les adolescents\, et le prochain aura lieu du 3 au 5 novembre à Sherbrooke\, au Québec. Notre thème est la construction de ponts de compréhension et d’amitié entre les communautés chrétiennes et musulmanes. Il comprendra une excursion très spéciale dans une mosquée locale. \nCoût: 60$ (Si vous ne pouvez pas payer\, parlez-en à Shanna – le coût ne doit pas être un obstacle) \nFormulaire d’inscription : https://forms.gle/6K6tnsjypNUbA5Go8\nÉvénement Facebook : https://www.facebook.com/events/885230612961477
URL:https://nakonhakaucc.ca/fr/evenement/forum-des-jeunes-novembre-2023/
LOCATION:Église Unie Plymouth-Trinity (Sherbrooke)\, 380 Dufferin\, Sherbrooke\, Quebec\, J1H 4M7\, Canada
CATEGORIES:jeunes et jeunes adultes,retraite
ATTACH;FMTTYPE=image/jpeg:https://nakonhakaucc.ca/fr/wp-content/uploads/sites/2/2023/10/2023-11-YouthForum-F.jpg
ORGANIZER;CN="Shanna Bernier":MAILTO:sbernier@united-church.ca
END:VEVENT
END:VCALENDAR