BEGIN:VCALENDAR
VERSION:2.0
PRODID:-//Conseil régional Nakonha:ka - ECPv6.15.20//NONSGML v1.0//EN
CALSCALE:GREGORIAN
METHOD:PUBLISH
X-WR-CALNAME:Conseil régional Nakonha:ka
X-ORIGINAL-URL:https://nakonhakaucc.ca/fr
X-WR-CALDESC:Évènements pour Conseil régional Nakonha:ka
REFRESH-INTERVAL;VALUE=DURATION:PT1H
X-Robots-Tag:noindex
X-PUBLISHED-TTL:PT1H
BEGIN:VTIMEZONE
TZID:America/Toronto
BEGIN:DAYLIGHT
TZOFFSETFROM:-0500
TZOFFSETTO:-0400
TZNAME:EDT
DTSTART:20240310T070000
END:DAYLIGHT
BEGIN:STANDARD
TZOFFSETFROM:-0400
TZOFFSETTO:-0500
TZNAME:EST
DTSTART:20241103T060000
END:STANDARD
BEGIN:DAYLIGHT
TZOFFSETFROM:-0500
TZOFFSETTO:-0400
TZNAME:EDT
DTSTART:20250309T070000
END:DAYLIGHT
BEGIN:STANDARD
TZOFFSETFROM:-0400
TZOFFSETTO:-0500
TZNAME:EST
DTSTART:20251102T060000
END:STANDARD
BEGIN:DAYLIGHT
TZOFFSETFROM:-0500
TZOFFSETTO:-0400
TZNAME:EDT
DTSTART:20260308T070000
END:DAYLIGHT
BEGIN:STANDARD
TZOFFSETFROM:-0400
TZOFFSETTO:-0500
TZNAME:EST
DTSTART:20261101T060000
END:STANDARD
END:VTIMEZONE
BEGIN:VEVENT
DTSTART;VALUE=DATE:20250915
DTEND;VALUE=DATE:20250916
DTSTAMP:20260420T023858
CREATED:20240813T184057Z
LAST-MODIFIED:20240813T184057Z
UID:8824-1757894400-1757980799@nakonhakaucc.ca
SUMMARY:Date butoir - subventions (septembre 2025)
DESCRIPTION:Les dates limites de soumission des demandes de subvention sont fixées trois fois par an (15 février\, 15 mai et 15 septembre). Votre communauté de foi ou votre charge pastorale peut soumettre une demande de subvention à n’importe laquelle de ces dates\, à l’exception des cas suivants : les demandes de soutien à la mission ne sont acceptées qu’à la date limite du 15 septembre et les demandes concernant l’Erskine-American Mountainside ne\nsont acceptées qu’à la date limite du 15 février (sauf en cas d’urgence). \nTéléchargez les formulaires : https://nakonhakaucc.ca/fr/ressources/financement-et-soutien/ \nEnregistrement de la séance d’apprentissage à propos des subventions : https://nakonhakaucc.ca/fr/evenement/seance-dapprentissage-a-propos-des-subventions/
URL:https://nakonhakaucc.ca/fr/evenement/date-butoir-subventions-septembre-2025/
CATEGORIES:Subventions
ATTACH;FMTTYPE=image/png:https://nakonhakaucc.ca/fr/wp-content/uploads/sites/2/2024/08/2025-09-15-subventions.png
END:VEVENT
END:VCALENDAR