BEGIN:VCALENDAR
VERSION:2.0
PRODID:-//Conseil régional Nakonha:ka - ECPv6.15.20//NONSGML v1.0//EN
CALSCALE:GREGORIAN
METHOD:PUBLISH
X-WR-CALNAME:Conseil régional Nakonha:ka
X-ORIGINAL-URL:https://nakonhakaucc.ca/fr
X-WR-CALDESC:Évènements pour Conseil régional Nakonha:ka
REFRESH-INTERVAL;VALUE=DURATION:PT1H
X-Robots-Tag:noindex
X-PUBLISHED-TTL:PT1H
BEGIN:VTIMEZONE
TZID:America/Toronto
BEGIN:DAYLIGHT
TZOFFSETFROM:-0500
TZOFFSETTO:-0400
TZNAME:EDT
DTSTART:20210314T070000
END:DAYLIGHT
BEGIN:STANDARD
TZOFFSETFROM:-0400
TZOFFSETTO:-0500
TZNAME:EST
DTSTART:20211107T060000
END:STANDARD
BEGIN:DAYLIGHT
TZOFFSETFROM:-0500
TZOFFSETTO:-0400
TZNAME:EDT
DTSTART:20220313T070000
END:DAYLIGHT
BEGIN:STANDARD
TZOFFSETFROM:-0400
TZOFFSETTO:-0500
TZNAME:EST
DTSTART:20221106T060000
END:STANDARD
BEGIN:DAYLIGHT
TZOFFSETFROM:-0500
TZOFFSETTO:-0400
TZNAME:EDT
DTSTART:20230312T070000
END:DAYLIGHT
BEGIN:STANDARD
TZOFFSETFROM:-0400
TZOFFSETTO:-0500
TZNAME:EST
DTSTART:20231105T060000
END:STANDARD
END:VTIMEZONE
BEGIN:VEVENT
DTSTART;TZID=America/Toronto:20220507T100000
DTEND;TZID=America/Toronto:20220507T160000
DTSTAMP:20260425T092300
CREATED:20220421T142924Z
LAST-MODIFIED:20220421T142924Z
UID:4528-1651917600-1651939200@nakonhakaucc.ca
SUMMARY:Marché de printemps
DESCRIPTION:Pour en savoir plus : slucartisans@gmail.com
URL:https://nakonhakaucc.ca/fr/evenement/marche-de-printemps/
LOCATION:St. Lambert United Church\, 415A Mercille Ave et 440 Notre-Dame\, Saint-Lambert\, QC\, J4P 2L6\, Canada
CATEGORIES:vente/braderie
ATTACH;FMTTYPE=application/pdf:https://nakonhakaucc.ca/fr/wp-content/uploads/sites/2/2022/04/Flyer-Spring-2022.pdf
ORGANIZER;CN="St. Lambert United Church":MAILTO:slunitedchurch@videotron.ca
END:VEVENT
END:VCALENDAR